BEGIN:VCALENDAR
VERSION:2.0
PRODID:-//ChamberMaster//Event Calendar 2.0//EN
METHOD:PUBLISH
X-PUBLISHED-TTL:P3D
REFRESH-INTERVAL:P3D
CALSCALE:GREGORIAN
BEGIN:VEVENT
DTSTART:20190419T230000Z
DTEND:20190420T000000Z
X-MICROSOFT-CDO-ALLDAYEVENT:FALSE
SUMMARY:Poetry Slam at the Jesup
DESCRIPTION:Share your poetry at a special Verse Unleashed! Poetry Slam at the Jesup Memorial Library on Friday\, April 19 at 7 p.m. April is National Poetry Month and this slam will feature a tribute to the late poet Mary Oliver. Oliver's poetry often explored the connection between the natural and spiritual world and she won multiple awards for her work including the Pulitzer Prize and the National Book Award. \n\n \n\nCome share your own work or a piece of poetry that inspires you. Unlike traditional slams\, the Jesup's poetry slam is all about community and comradery not competition. Bring your friends or family and share your poetry in a supportive atmosphere. \n\n \n\nFor more information\, contact the Jesup at 207-288-4245 or mrice@jesuplibrary.org.
X-ALT-DESC;FMTTYPE=text/html:<span style="font-family:times new roman\,serif"><span style="font-size:14.0pt">Share your poetry at a special Verse Unleashed! Poetry Slam at the Jesup Memorial Library on Friday\, April 19 at 7 p.m. April is National Poetry Month and this slam will feature a tribute to the late poet Mary Oliver. Oliver&rsquo\;s poetry often explored the connection between the natural and spiritual world and she won multiple awards for her work including the Pulitzer Prize and the National Book Award. </span></span><br />\n&nbsp\;<br />\n<span style="font-family:times new roman\,serif"><span style="font-size:14.0pt">Come share your own work or a piece of poetry that inspires you. Unlike traditional slams\, the Jesup&rsquo\;s poetry slam is all about community and comradery not competition. Bring your friends or family and share your poetry in a supportive atmosphere. </span></span><br />\n&nbsp\;<br />\n<span style="font-family:times new roman\,serif"><span style="font-size:14.0pt"><span>For more information\, contact the Jesup at <span class="gc-cs-link" id="gc-number-0" title="Call with Google Voice">207-288-4245</span> or </span><a href="mailto:mrice@jesuplibrary.org">mrice@jesuplibrary.org</a></span>. </span>
LOCATION:Jesup Memorial Library\, 34 Mt. Desert St.\, Bar Harbor\, ME 04609
UID:e.3061.8857
SEQUENCE:3
DTSTAMP:20260420T024034Z
URL:https://www.visitbarharbor.com/events/details/poetry-slam-at-the-jesup-8857
END:VEVENT

END:VCALENDAR
