BEGIN:VCALENDAR
VERSION:2.0
PRODID:-//ChamberMaster//Event Calendar 2.0//EN
METHOD:PUBLISH
X-PUBLISHED-TTL:P3D
REFRESH-INTERVAL:P3D
CALSCALE:GREGORIAN
BEGIN:VEVENT
DTSTART:20190518T230000Z
DTEND:20190519T003000Z
X-MICROSOFT-CDO-ALLDAYEVENT:FALSE
SUMMARY:Poetry Reading with William Carpenter
DESCRIPTION:Maine author\, poet\, and founding College of the Atlantic faculty member Bill Carpenter reads from his early poetry and reminisces about the Maine Poets Festival\, followed by a Q&A. This free\, all-ages event is part of the Bateau/Jesup Reading Series. \n\n \n\nContact:
X-ALT-DESC;FMTTYPE=text/html:<div>Maine author\, poet\, and founding College of the Atlantic faculty member Bill Carpenter reads from his early poetry and reminisces about the Maine Poets Festival\, followed by a Q&amp\;A. This free\, all-ages event is part of the Bateau/Jesup Reading Series.&nbsp\;</div>\n\n<div>&nbsp\;</div>\n\n<div>Contact:&nbsp\;</div>\n
LOCATION:Jesup Memorial Library 34 Mount Desert Street Bar Harbor\, ME
UID:e.3061.8784
SEQUENCE:3
DTSTAMP:20260420T023606Z
URL:https://www.visitbarharbor.com/events/details/poetry-reading-with-william-carpenter-8784
END:VEVENT

END:VCALENDAR
