BEGIN:VCALENDAR
VERSION:2.0
PRODID:-//ChamberMaster//Event Calendar 2.0//EN
METHOD:PUBLISH
X-PUBLISHED-TTL:P3D
REFRESH-INTERVAL:P3D
CALSCALE:GREGORIAN
BEGIN:VEVENT
DTSTART:20190425T230000Z
DTEND:20190426T000000Z
X-MICROSOFT-CDO-ALLDAYEVENT:FALSE
SUMMARY:Poetry Reading with Gary Rainford and Carl Little
DESCRIPTION:Join poets Gary Rainford and Carl Little for a special evening of poetry to celebrate National Poetry Month at the Jesup Memorial Library on Thursday\, April 25 at 7 p.m. Both poets will share selections of their work at this event. \n\n \n\nRainford\, who lives on Swan's Island\, is the author of two poetry collections\, "Salty Liquor" and "Liner Notes." His suite of poems\, "We Are Here\," was an honorable mention selected by Betsy Sholl for The Gabriel Zimpritch Memorial Poetry Prize. Rainford is currently working on "Seven Springs\," a new collection of poems that tell the story of his mother's first year living with Alzheimer's disease.  These poems square off with the bitter reality\, "To grow old is to lose everything\," the opening line in Donald Hall's poem\, "Affirmation."\n\n \n\nLittle\, who lives on MDI\, is the author of multiple books about art as well as the poetry collection\, "Ocean Drinker: New & Selected Poems." His poems have appeared in many journals\, including The Paris Review\, LOCUSPOINT\, Down East and Off the Coast\, and in several anthologies edited by Wesley McNair. His poetry has recently been featured in Maine Sunday Telegram's "Deep Water" series and "Poems from Here" on Maine Public Radio as well as in 3 Nations Anthology: Native\, Canadian & New England Writers\, The Island Reader\, and Goose River Anthology. Little is communications manager at the Maine Community Foundation.\n\n \n\nFor more information on this talk\, contact the Jesup at 207-288-4245 or mrice@jesuplibrary.org.
X-ALT-DESC;FMTTYPE=text/html:<span style="font-family:times new roman\,serif"><span style="font-size:14.0pt">Join poets Gary Rainford and Carl Little for a special evening of poetry to celebrate National Poetry Month at the Jesup Memorial Library on Thursday\, April 25 at 7 p.m. Both poets will share selections of their work at this event. </span></span><br />\n&nbsp\;<br />\n<span style="font-family:times new roman\,serif"><span style="font-size:14.0pt">Rainford\, who lives on Swan&rsquo\;s Island\, is the author of two poetry collections\, &ldquo\;Salty Liquor&rdquo\; and &ldquo\;Liner Notes.&rdquo\; His suite of poems\, &ldquo\;We Are Here\,&rdquo\; was an honorable mention selected by Betsy Sholl for The Gabriel Zimpritch Memorial Poetry Prize. Rainford is currently working on &ldquo\;Seven Springs\,&rdquo\; a new collection of poems that tell the story of his mother&rsquo\;s first year living with Alzheimer&rsquo\;s disease.&nbsp\; These poems square off with the bitter reality\, &ldquo\;To grow old is to lose everything\,&rdquo\; the opening line in Donald Hall&rsquo\;s poem\, &ldquo\;Affirmation.&rdquo\;</span></span><br />\n&nbsp\;<br />\n<span style="font-family:times new roman\,serif"><span style="font-size:14.0pt">Little\, who lives on MDI\, is the author of multiple books about art as well as the poetry collection\, &ldquo\;Ocean Drinker: New &amp\; Selected Poems.&rdquo\;</span></span> <span style="font-family:times new roman\,serif"><span style="font-size:14.0pt">His poems have appeared in many journals\, including <em>The Paris Review\, LOCUSPOINT\, Down East </em>and <em>Off the Coast</em>\, and in several anthologies edited by Wesley McNair. His poetry has recently been featured in <em>Maine Sunday Telegram</em>&rsquo\;s &ldquo\;Deep Water&rdquo\; series and &ldquo\;Poems from Here&rdquo\; on Maine Public Radio as well as in <em>3 Nations Anthology: Native\, Canadian &amp\; New England Writers</em>\, <em>The Island Reader</em>\, and <em>Goose River Anthology</em>. Little is communications manager at the Maine Community Foundation.</span></span><br />\n&nbsp\;<br />\n<span style="font-family:times new roman\,serif"><span style="font-size:14.0pt"><span>For more information on this talk\, contact the Jesup at <span class="gc-cs-link" id="gc-number-0" title="Call with Google Voice">207-288-4245</span> or </span><a href="mailto:mrice@jesuplibrary.org">mrice@jesuplibrary.org</a></span>.</span><br />\n&nbsp\;
LOCATION:Jesup Memorial Library\, 34 Mt. Desert St.\, Bar Harbor\, ME
UID:e.3061.8860
SEQUENCE:3
DTSTAMP:20260420T043552Z
URL:https://www.visitbarharbor.com/events/details/poetry-reading-with-gary-rainford-and-carl-little-8860
END:VEVENT

END:VCALENDAR
