BEGIN:VCALENDAR
VERSION:2.0
PRODID:-//ChamberMaster//Event Calendar 2.0//EN
METHOD:PUBLISH
X-PUBLISHED-TTL:P3D
REFRESH-INTERVAL:P3D
CALSCALE:GREGORIAN
BEGIN:VEVENT
DTSTART:20191017T201000Z
DTEND:20191017T211000Z
X-MICROSOFT-CDO-ALLDAYEVENT:FALSE
SUMMARY:Poetry Reading
DESCRIPTION:Acclaimed novelist and poet Dan Burt reads from his latest work.
X-ALT-DESC;FMTTYPE=text/html:Acclaimed novelist and poet Dan Burt reads from his latest work.
LOCATION:College of the Atlantic - McCormick Lecture Hall
UID:e.3061.15116
SEQUENCE:3
DTSTAMP:20260419T155035Z
URL:https://www.visitbarharbor.com/events/details/poetry-reading-15116
END:VEVENT

END:VCALENDAR
