BEGIN:VCALENDAR
VERSION:2.0
PRODID:-//ChamberMaster//Event Calendar 2.0//EN
METHOD:PUBLISH
X-PUBLISHED-TTL:P3D
REFRESH-INTERVAL:P3D
CALSCALE:GREGORIAN
BEGIN:VEVENT
DTSTART:20181016T213000Z
DTEND:20181016T223000Z
X-MICROSOFT-CDO-ALLDAYEVENT:FALSE
SUMMARY:Plastic Ocean Talk and Movie
DESCRIPTION:Last spring\, Caroline Musson\, Logan Wilbur\, Charlotte Partin\, and Ella Izenour\, students from Pemetic\, did research on about the effects of plastic waste on the environment and our health. Now\, they are working with all four communities on Mount Desert Island to reduce the use of the single use plastic bags as well as polystyrene (styrophone) Join these students at the Jesup Memorial Library on Tuesday\, October 16 at 5:30 p.m. as they give their presentation about plastic use. After their talk there will be a screening of part of the documentary "A Plastic Ocean."\n\n \n\nAfter doing their research Musson\, Wilbur\, Partin and Izenour decided to present their findings to the Southwest Harbor select board and ask for the elimination of single use plastic bags. Their presentation was so compelling that the board asked them to write an ordinance that would make their vision a reality. The students were subsequently asked to present to town governments in Bar Harbor\, Mount Desert and Tremont\, and now they are working with others to eliminate single use plastic bags and polystyrene in all four towns.\n\n \n\nFor more information about the talk contact the Jesup at 207-288-4245 or mrice@jesuplibrary.org.
X-ALT-DESC;FMTTYPE=text/html:<span style="font-family:times new roman\,serif"><span style="font-size:14.0pt">Last spring\, Caroline Musson\, Logan Wilbur\, Charlotte Partin\, and Ella Izenour\, students from Pemetic\, did research on about the effects of plastic waste on the environment and our health. Now\, they are working with all four communities on Mount Desert Island to reduce the use of the single use plastic bags as well as polystyrene (styrophone) Join these students at the Jesup Memorial Library on Tuesday\, October 16 at 5:30 p.m. as they give their presentation about plastic use. After their talk there will be a screening of part of the documentary &ldquo\;A Plastic Ocean.&rdquo\;</span></span><br />\n&nbsp\;<br />\n<span style="font-family:times new roman\,serif"><span style="font-size:14.0pt">After doing their research Musson\, Wilbur\, Partin and Izenour decided to present their findings to the Southwest Harbor select board and ask for the elimination of single use plastic bags. Their presentation was so compelling that the board asked them to write an ordinance that would make their vision a reality. The students were subsequently asked to present to town governments in Bar Harbor\, Mount Desert and Tremont\, and now they are working with others to eliminate single use plastic bags and polystyrene in all four towns.</span></span><br />\n&nbsp\;<br />\n<span style="font-family:times new roman\,serif"><span style="font-size:14.0pt"><span>For more information about the talk contact the Jesup at <span class="gc-cs-link" id="gc-number-0" title="Call with Google Voice">207-288-4245</span> or </span><a href="mailto:mrice@jesuplibrary.org">mrice@jesuplibrary.org</a></span>. </span>
LOCATION:Jesup Memorial Library\, 34 Mt. Desert St.\, Bar Harbor\, ME 04609
UID:e.3061.3935
SEQUENCE:3
DTSTAMP:20260420T132049Z
URL:https://www.visitbarharbor.com/events/details/plastic-ocean-talk-and-movie-3935
END:VEVENT

END:VCALENDAR
