BEGIN:VCALENDAR
VERSION:2.0
PRODID:-//ChamberMaster//Event Calendar 2.0//EN
METHOD:PUBLISH
X-PUBLISHED-TTL:P3D
REFRESH-INTERVAL:P3D
CALSCALE:GREGORIAN
BEGIN:VEVENT
DTSTART:20180519T120000Z
DTEND:20180519T150000Z
X-MICROSOFT-CDO-ALLDAYEVENT:FALSE
SUMMARY:Plant Sale
DESCRIPTION:Buy your spring plants at the Southwest Harbor Public Library's annual Plant Sale! In addition to plant divisions donated by area gardeners\, there will be a variety of vegetables\, annuals\, herbs and hanging baskets from Islandscaping Garden Center\, trees and shrubs from Frost Farms\, and gardening and plant books\, all to delight your green thumb and benefit the Library. P.S. Gardeners\, we are gladly accepting healthy plant divisions from your garden! Please call for more information or to let us know what plants you'd like to donate\, 244-7065\, or email esolet@swharbor.lib.me.us.
X-ALT-DESC;FMTTYPE=text/html:Buy your spring plants at the Southwest Harbor Public Library&rsquo\;s annual Plant Sale! In addition to plant divisions donated by area gardeners\, there will be a variety of vegetables\, annuals\, herbs and hanging baskets from Islandscaping Garden Center\, trees and shrubs from Frost Farms\, and gardening and plant books\, all to delight your green thumb and benefit the Library. P.S. Gardeners\, we are gladly accepting healthy plant divisions from your garden! Please call for more information or to let us know what plants you&rsquo\;d like to donate\, 244-7065\, or email esolet@swharbor.lib.me.us.
LOCATION:Bar Harbor Bank & Trust parking lot
UID:e.3061.2155
SEQUENCE:3
DTSTAMP:20260420T215733Z
URL:https://www.visitbarharbor.com/events/details/plant-sale-2155
END:VEVENT

END:VCALENDAR
