BEGIN:VCALENDAR
VERSION:2.0
PRODID:-//ChamberMaster//Event Calendar 2.0//EN
METHOD:PUBLISH
X-PUBLISHED-TTL:P3D
REFRESH-INTERVAL:P3D
CALSCALE:GREGORIAN
BEGIN:VEVENT
DTSTART;VALUE=DATE:20190401
DTEND;VALUE=DATE:20190402
TRANSP:TRANSPARENT
X-MICROSOFT-CDO-ALLDAYEVENT:TRUE
SUMMARY:Pilot Ground School
DESCRIPTION:Maine Coastal Flight Center is holding their next Pilot Ground School starting on Monday\, April 1st at the Columbia Air Services maintenance hangar at the Hancock County / Bar Harbor Airport in Trenton. This session will run on Monday evenings for 12 weeks and prepares you for the FAA Knowledge Exam which is part of getting your pilots license. This class is also a great refresher for any pilot who has not been through a Ground School for a while and may be rusty regarding the regulations. Please contact Vicki at 207-664-6000  / vickiv@mainecoastalflight.com to register or for more information.
X-ALT-DESC;FMTTYPE=text/html:<span style="color:rgb(34\, 34\, 34)\; font-family:arial\,helvetica\,sans-serif\; font-size:small">Maine Coastal Flight Center is holding their next Pilot Ground School starting on Monday\, April 1st at the Columbia Air Services maintenance hangar at the Hancock County / Bar Harbor Airport in Trenton. This session will run on Monday evenings for 12 weeks and prepares you for the FAA Knowledge Exam which is part of getting your pilots license. This class is also a great refresher for any pilot who has not been through a Ground School for a while and may be rusty regarding the regulations. Please contact Vicki at&nbsp\;<span style="color:rgb(0\, 51\, 187)"><span class="gc-cs-link" id="gc-number-0" title="Call with Google Voice">207-664-6000</span></span>&nbsp\; /&nbsp\;</span><a href="mailto:vickiv@mainecoastalflight.com" style="color: rgb(17\, 85\, 204)\; font-family: Arial\, Helvetica\, sans-serif\; font-size: small\;" target="_blank">vickiv@mainecoastalflight.com</a><span style="color:rgb(34\, 34\, 34)\; font-family:arial\,helvetica\,sans-serif\; font-size:small">&nbsp\;to register or for more information.</span>
LOCATION:Hancock County / Bar Harbor Airport Columbia Air Services Maintenance Hanger 112 Caruso Drive Trenton\, ME 04605
UID:e.3061.8778
SEQUENCE:3
DTSTAMP:20260420T023338Z
URL:https://www.visitbarharbor.com/events/details/pilot-ground-school-8778
END:VEVENT

END:VCALENDAR
