BEGIN:VCALENDAR
VERSION:2.0
PRODID:-//ChamberMaster//Event Calendar 2.0//EN
METHOD:PUBLISH
X-PUBLISHED-TTL:P3D
REFRESH-INTERVAL:P3D
CALSCALE:GREGORIAN
BEGIN:VEVENT
DTSTART:20230415T130000Z
DTEND:20230415T160000Z
X-MICROSOFT-CDO-ALLDAYEVENT:FALSE
SUMMARY:Pickleball Tournament
DESCRIPTION:First Annual Pickleball Tournament at Camp Beech Cliff to support Free Bus Transportation to & from Camp with routes all over MDI & Trenton. Register by April 13th at: https://form.jotform.com/223495135167156 All skills level welcome and prizes will be awarded!
X-ALT-DESC;FMTTYPE=text/html:First Annual Pickleball Tournament at Camp Beech Cliff to support Free Bus Transportation to &amp\; from Camp with routes all over MDI &amp\; Trenton. Register by April 13th at: https://form.jotform.com/223495135167156 All skills level welcome and prizes will be awarded!
LOCATION:Camp Beech Cliff 264 Beech Hill Rd. Mount Desert\, ME 04660
UID:e.3061.41180
SEQUENCE:3
DTSTAMP:20260421T082145Z
URL:https://www.visitbarharbor.com/events/details/pickleball-tournament-41180
END:VEVENT

END:VCALENDAR
