BEGIN:VCALENDAR
VERSION:2.0
PRODID:-//ChamberMaster//Event Calendar 2.0//EN
METHOD:PUBLISH
X-PUBLISHED-TTL:P3D
REFRESH-INTERVAL:P3D
CALSCALE:GREGORIAN
BEGIN:VEVENT
DTSTART:20191011T230000Z
DTEND:20191012T000000Z
X-MICROSOFT-CDO-ALLDAYEVENT:FALSE
SUMMARY:Photography Workshop with the Bar Harbor Whale Watch
DESCRIPTION:Learn to instantly take better photos on your camera and cell phone with Mike Leonard of "Photo Tourism by Mike" on Friday\, Oct.\, 11 at 7 p.m. at the Jesup Memorial Library. This talk is co-sponsored by the Bar Harbor Whale Watch and are before the Whale Watch's lighthouse tours. \n\n \n\nBring along a camera for this hands-on workshop and Leonard will walk attendees through the easy changes they can make instantly to take better photos. The session will break down things that are seen as difficult photography concepts and attendees will leave the session knowing much more about how to use their camera. Leonard will talk about exposure\, white balance\, using the HDR setting\, basic composition and more. He will also highlight free apps that everyone can download on their cell phone to improve images on the phone as well. \n\n \n\nLeonard's work is frequently seen in books\, magazines\, annual reports\, brochures\, textbooks\, in television segments and nationally on the Weather Channel. Some of his work has also been seen on the National Geographic Wild program.\n\n \n\nThis talk is free and open to the public and registration is not required\, and you do not have to be going on the Whale Watch's lighthouse tour to participate. To learn more about Leonard visit phototourismbymike.com and for more information on the Bar Harbor Whale Watch and their lighthouse tours visit barharborwhales.com. For more information on the talk\, contact the Jesup at 207-288-4245.
X-ALT-DESC;FMTTYPE=text/html:<span style="font-family:times new roman\,serif"><span style="font-size:14.0pt">Learn to instantly take better photos on your camera and cell phone with Mike Leonard of &ldquo\;Photo Tourism by Mike&rdquo\; on Friday\, Oct.\, 11 at 7 p.m. at the Jesup Memorial Library. This talk is co-sponsored by the Bar Harbor Whale Watch and are before the Whale Watch&rsquo\;s lighthouse tours. </span></span><br />\n&nbsp\;<br />\n<span style="font-family:times new roman\,serif"><span style="font-size:14.0pt">Bring along a camera for this hands-on workshop and Leonard will walk attendees through the easy changes they can make instantly to take better photos. The session will break down things that are seen as difficult photography concepts and attendees will leave the session knowing much more about how to use their camera. Leonard will talk about exposure\, white balance\, using the HDR setting\, basic composition and more. He will also highlight free apps that everyone can download on their cell phone to improve images on the phone as well. </span></span><br />\n&nbsp\;<br />\n<span style="font-family:times new roman\,serif"><span style="font-size:14.0pt">Leonard&rsquo\;s work is frequently seen in books\, magazines\, annual reports\, brochures\, textbooks\, in television segments and nationally on the Weather Channel. Some of his work has also been seen on the National Geographic Wild program.</span></span><br />\n&nbsp\;<br />\n<span style="font-family:times new roman\,serif"><span style="font-size:14.0pt">This talk is free and open to the public and registration is not required\, and you do not have to be going on the Whale Watch&rsquo\;s lighthouse tour to participate. To learn more about Leonard visit phototourismbymike.com and for more information on the Bar Harbor Whale Watch and their lighthouse tours visit barharborwhales.com. For more information on the talk\, contact the Jesup at 207-288-4245. </span></span>
LOCATION:Jesup Memorial Library\, 34 Mt. Desert St.\, Bar Harbor\, ME 04609
UID:e.3061.14807
SEQUENCE:3
DTSTAMP:20260419T155925Z
URL:https://www.visitbarharbor.com/events/details/photography-workshop-with-the-bar-harbor-whale-watch-14807
END:VEVENT

END:VCALENDAR
