BEGIN:VCALENDAR
VERSION:2.0
PRODID:-//ChamberMaster//Event Calendar 2.0//EN
METHOD:PUBLISH
X-PUBLISHED-TTL:P3D
REFRESH-INTERVAL:P3D
CALSCALE:GREGORIAN
BEGIN:VEVENT
DTSTART:20191008T201000Z
DTEND:20191008T213000Z
X-MICROSOFT-CDO-ALLDAYEVENT:FALSE
SUMMARY:Philosophy and The Big Freaking Problems of Human Ecology
DESCRIPTION:College of the Atlantic Professor Gray Cox examines how a philosophical analysis of the dominant modes of rationality in our world provides the key to improving our prospects for the future at the COA Human Ecology Forum.
X-ALT-DESC;FMTTYPE=text/html:College of the Atlantic Professor Gray Cox examines how a philosophical analysis of the dominant modes of rationality in our world provides the key to improving our prospects for the future at the COA Human Ecology Forum.
LOCATION:College of the Atlantic - McCormick Lecture Hall
UID:e.3061.15114
SEQUENCE:3
DTSTAMP:20260419T173649Z
URL:https://www.visitbarharbor.com/events/details/philosophy-and-the-big-freaking-problems-of-human-ecology-15114
END:VEVENT

END:VCALENDAR
