BEGIN:VCALENDAR
VERSION:2.0
PRODID:-//ChamberMaster//Event Calendar 2.0//EN
METHOD:PUBLISH
X-PUBLISHED-TTL:P3D
REFRESH-INTERVAL:P3D
CALSCALE:GREGORIAN
BEGIN:VEVENT
DTSTART:20190321T213000Z
DTEND:20190321T230000Z
X-MICROSOFT-CDO-ALLDAYEVENT:FALSE
SUMMARY:Pelvic Floor Therapy Workshop
DESCRIPTION:MDI Hospital is offering a Pelvic Floor Therapy Workshop on Thursday\, March 21 from 5:30-7:00 pm. The workshop will take place in the Wolf Conference Center on the 2nd floor of the Lisa Stewart Women's Health Center at 330 Main Street in Bar Harbor. Kacey Hutchins\, Physical Therapist\, will be discussing general anatomy and physiology of how the bladder works\, simple strategies to take control over the urge to go\, and yes\, a few Kegels to get you and your girlfriends to stop peeing your pants and running to the bathroom. No questions are off limits! This free community event is for women 18+. Questions? Call the Lisa Stewart Women's Health Center at 207.288.8100.
X-ALT-DESC;FMTTYPE=text/html:MDI Hospital is offering a Pelvic Floor Therapy Workshop on Thursday\, March 21 from 5:30-7:00 pm. The workshop will take place in the Wolf Conference Center on the 2nd floor of the Lisa Stewart Women&rsquo\;s Health Center at 330 Main Street in Bar Harbor. Kacey Hutchins\, Physical Therapist\, will be discussing general anatomy and physiology of how the bladder works\, simple strategies to take control over the urge to go\, and yes\, a few Kegels to get you and your girlfriends to stop peeing your pants and running to the bathroom. No questions are off limits! This free community event is for women 18+. Questions? Call the Lisa Stewart Women&rsquo\;s Health Center at 207.288.8100.
LOCATION:Lisa Stewart Women's Health Center\, 330 Main Street\, Bar Harbor.
UID:e.3061.5450
SEQUENCE:3
DTSTAMP:20260420T062315Z
URL:https://www.visitbarharbor.com/events/details/pelvic-floor-therapy-workshop-5450
END:VEVENT

END:VCALENDAR
