BEGIN:VCALENDAR
VERSION:2.0
PRODID:-//ChamberMaster//Event Calendar 2.0//EN
METHOD:PUBLISH
X-PUBLISHED-TTL:P3D
REFRESH-INTERVAL:P3D
CALSCALE:GREGORIAN
BEGIN:VEVENT
DTSTART:20180604T193000Z
DTEND:20180604T203000Z
X-MICROSOFT-CDO-ALLDAYEVENT:FALSE
SUMMARY:Peace Crane Folding
DESCRIPTION:The act of folding cranes brings community\, respect\, calmness\, focus\, storytelling\, kindness\, understanding\, and togetherness. Come and fold one crane. Come and fold many. All are welcome!
X-ALT-DESC;FMTTYPE=text/html:The act of folding cranes brings community\, respect\, calmness\, focus\, storytelling\, kindness\, understanding\, and togetherness. Come and fold one crane. Come and fold many. All are welcome!
LOCATION:Southwest Harbor Public Library
UID:e.3061.2577
SEQUENCE:3
DTSTAMP:20260420T195440Z
URL:https://www.visitbarharbor.com/events/details/peace-crane-folding-2577
END:VEVENT

END:VCALENDAR
