BEGIN:VCALENDAR
VERSION:2.0
PRODID:-//ChamberMaster//Event Calendar 2.0//EN
METHOD:PUBLISH
X-PUBLISHED-TTL:P3D
REFRESH-INTERVAL:P3D
CALSCALE:GREGORIAN
BEGIN:VEVENT
DTSTART:20180921T230000Z
DTEND:20180922T000000Z
X-MICROSOFT-CDO-ALLDAYEVENT:FALSE
SUMMARY:Paul Hammond Memorial Lecture with Jasmine Wallace
DESCRIPTION:Join Jasmine Wallace\, from Villanova University\, for the second annual Paul Hammond Memorial Lecture at the Jesup Memorial Library on Friday\, Sept. 21 at 7 p.m. The Hammond Memorial Lecture\, in honor of the late Paul Hammond\, brings a noted speaker on philosophy for a talk that explores philosophy for a lay audience. Hammond\, a MDI native and professor of philosophy\, was passionate about discussing ideas and current events\, as well as promoting well-reasoned and logical arguments and debate.\n\n \n\nWallace's talk\, "How's your momma?: How Kinship Shapes Identity" will explore how who we are and who we grow up to be is a reflection not only of our immediate families\, but also of our respective villages and our various kinships. Wallace explores the kinds of family resemblances that we carry with us in our most subtle of gestures: hugging a friend in a time of grief\, creating comedic relief during tense discussion\, or leaning back to stroke one's chin while in deep reflection. These simple acts are reverberations of kinships that come to constitute our identities.\n\n \n\nWallace and Hammond studied together at the University of Memphis. Wallace says\, "Paul served as an important influence in the development of my own philosophical voice. As I enter the dissertation writing stage of my philosophical career\, I carry Paul's voice\, creativity\, critical thought and sensitivity with me."\n\n \n\nThe Paul Hammond Memorial Lecture was established in 2016. Hammond\, the son of Debby and Scott Hammond of Bar Harbor and a graduate of the Mount Desert Island High School\, passed away in 2015. \n\n \n\nFor more information on the Paul Hammond Memorial Fund\, contact Ruth A. Eveland\, Library Director at 207-288-4245 or reveland@jesuplibrary.org. And for more information on the talk\, contact the Jesup at 207-288-4245 or mrice@jesuplibrary.org.
X-ALT-DESC;FMTTYPE=text/html:<span style="font-family:times new roman\,serif"><span style="font-size:14.0pt">Join Jasmine Wallace\, from Villanova University\, for the second annual Paul Hammond Memorial Lecture at the Jesup Memorial Library on Friday\, Sept. 21 at 7 p.m. The Hammond Memorial Lecture\, in honor of the late Paul Hammond\, brings a noted speaker on philosophy for a talk that explores philosophy for a lay audience. Hammond\, a MDI native and professor of philosophy\, was passionate about discussing ideas and current events\, as well as promoting well-reasoned and logical arguments and debate.</span></span><br />\n&nbsp\;<br />\n<span style="font-family:times new roman\,serif"><span style="font-size:14.0pt">Wallace&rsquo\;s talk\, &ldquo\;How&#39\;s your momma?: How Kinship Shapes Identity&rdquo\; will explore how who we are and who we grow up to be is a reflection not only of our immediate families\, but also of our respective villages and our various kinships. Wallace explores the kinds of family resemblances that we carry with us in our most subtle of gestures: hugging a friend in a time of grief\, creating comedic relief during tense discussion\, or leaning back to stroke one&#39\;s chin while in deep reflection. These simple acts are reverberations of kinships that come to constitute our identities.</span></span><br />\n&nbsp\;<br />\n<span style="font-family:times new roman\,serif"><span style="font-size:14.0pt">Wallace and Hammond studied together at the University of Memphis. Wallace says\, &ldquo\;Paul served as an important influence in the development of my own philosophical voice. As I enter the dissertation writing stage of my philosophical career\, I carry Paul&#39\;s voice\, creativity\, critical thought and sensitivity with me.&rdquo\;</span></span><br />\n&nbsp\;<br />\n<span style="font-family:times new roman\,serif"><span style="font-size:14.0pt">The Paul Hammond Memorial Lecture was established in 2016. Hammond\, the son of Debby and Scott Hammond of Bar Harbor and a graduate of the Mount Desert Island High School\, passed away in 2015. </span></span><br />\n&nbsp\;<br />\n<span style="font-family:times new roman\,serif"><span style="font-size:14.0pt"><span>For more information on the Paul Hammond Memorial Fund\, contact Ruth A. Eveland\, Library Director at <span class="gc-cs-link" id="gc-number-0" title="Call with Google Voice">207-288-4245</span> or </span><a href="mailto:reveland@jesuplibrary.org">reveland@jesuplibrary.org</a></span><span>. And for more information on the talk\, contact the Jesup at <span class="gc-cs-link" id="gc-number-1" title="Call with Google Voice">207-288-4245</span> or mrice@jesuplibrary.org</span></span>.
LOCATION:Jesup Memorial Library\, 34 Mt. Desert St.\, Bar Harbor\, ME 04609
UID:e.3061.3848
SEQUENCE:3
DTSTAMP:20260420T151038Z
URL:https://www.visitbarharbor.com/events/details/paul-hammond-memorial-lecture-with-jasmine-wallace-3848
END:VEVENT

END:VCALENDAR
