BEGIN:VCALENDAR
VERSION:2.0
PRODID:-//ChamberMaster//Event Calendar 2.0//EN
METHOD:PUBLISH
X-PUBLISHED-TTL:P3D
REFRESH-INTERVAL:P3D
CALSCALE:GREGORIAN
BEGIN:VEVENT
DTSTART:20180525T230000Z
DTEND:20180526T000000Z
X-MICROSOFT-CDO-ALLDAYEVENT:FALSE
SUMMARY:Patagonia Talk and Slideshow with Bob Thayer
DESCRIPTION:Explore the land of Patagonia at a talk and slideshow with photographer Robert Thayer at the Jesup Memorial Library on Friday\, May 25 at 7 p.m. Thayer and his wife\, Linda\, visited this region at the southern end of South America which is bordered by the ocean on three sides and the Colorado and Barrancas rivers and the Reloncav  Estuary to the north. While there they crisscrossed the area going from Santiago\, Chile to the tip of Cape Horn and then ending in Buenos Aires\, Argentina.\n\n \n\nPatagonia\, which was named by explorer Ferdinand Magellan in 1520\, is known for its wild and spectacular landscape filled with mountains\, deserts\, grasslands\, lakes and rivers that is almost at the end of the world. Thayer's presentations include a talk along with a slideshow of his photos set to music.\n\n \n\nFor more information\, contact the Jesup at 207-288-4245 or mrice@jesuplibrary.org.
X-ALT-DESC;FMTTYPE=text/html:<span style="font-family:times new roman\,serif"><span style="font-size:14.0pt">Explore the land of Patagonia at a talk and slideshow with photographer Robert Thayer at the Jesup Memorial Library on Friday\, May 25 at 7 p.m. Thayer and his wife\, Linda\, visited this region at the southern end of South America which is bordered by the ocean on three sides and the Colorado and Barrancas rivers and the Reloncav&iacute\; Estuary to the north. While there they crisscrossed the area going from Santiago\, Chile to the tip of Cape Horn and then ending in Buenos Aires\, Argentina.</span></span><br />\n&nbsp\;<br />\n<span style="font-family:times new roman\,serif"><span style="font-size:14.0pt">Patagonia\, which was named by explorer Ferdinand Magellan in 1520\, is known for its wild and spectacular landscape filled with mountains\, deserts\, grasslands\, lakes and rivers that is almost at the end of the world. Thayer&rsquo\;s presentations include a talk along with a slideshow of his photos set to music.</span></span><br />\n&nbsp\;<br />\n<span style="font-family:times new roman\,serif"><span style="font-size:14.0pt">For more information\, contact the Jesup at 207-288-4245 or </span></span><a href="mailto:mrice@jesuplibrary.org"><span style="font-family:times new roman\,serif"><span style="font-size:14.0pt">mrice@jesuplibrary.org</span></span></a><span style="font-family:times new roman\,serif"><span style="font-size:14.0pt">.</span></span>
LOCATION:Jesup Memorial Library\, 34 Mt. Desert St.\, Bar Harbor\, ME 04609
UID:e.3061.2528
SEQUENCE:3
DTSTAMP:20260420T232746Z
URL:https://www.visitbarharbor.com/events/details/patagonia-talk-and-slideshow-with-bob-thayer-2528
END:VEVENT

END:VCALENDAR
