BEGIN:VCALENDAR
VERSION:2.0
PRODID:-//ChamberMaster//Event Calendar 2.0//EN
METHOD:PUBLISH
X-PUBLISHED-TTL:P3D
REFRESH-INTERVAL:P3D
CALSCALE:GREGORIAN
BEGIN:VEVENT
DTSTART:20180721T140000Z
DTEND:20180721T200000Z
X-MICROSOFT-CDO-ALLDAYEVENT:FALSE
SUMMARY:Pastel Drawing and Painting with Gay Paratore
DESCRIPTION:Eagles live in Maine year-round\; ospreys grace us with their presence only for the nesting season. Learn more about their amazing courtship\, nests\, excellent fishing techniques\, and where to watch ospreys around Ellsworth. Woodlawn's nature programs\, led by naturalist Lynn Havsall\, are a fun learning experience open for all ages. Children under 12 must be accompanied by an adult. Nature programs are free and open to the public. Donations\, however\, are greatly appreciated. Space is limited. Reservations are required.
X-ALT-DESC;FMTTYPE=text/html:Eagles live in Maine year-round\; ospreys grace us with their presence only for the nesting season. Learn more about their amazing courtship\, nests\, excellent fishing techniques\, and where to watch ospreys around Ellsworth. Woodlawn&rsquo\;s nature programs\, led by naturalist Lynn Havsall\, are a fun learning experience open for all ages. Children under 12 must be accompanied by an adult. Nature programs are free and open to the public. Donations\, however\, are greatly appreciated. Space is limited. <a href="https://woodlawnmuseum.com/event/pastel-drawing-painting-gay-paratore-2/">Reservations are required.</a>
LOCATION:Woodlawn Museum\, 19 Black House Drive\, Ellsworth\, ME 04605
UID:e.3061.2199
SEQUENCE:3
DTSTAMP:20260420T183126Z
URL:https://www.visitbarharbor.com/events/details/pastel-drawing-and-painting-with-gay-paratore-2199
END:VEVENT

END:VCALENDAR
