BEGIN:VCALENDAR
VERSION:2.0
PRODID:-//ChamberMaster//Event Calendar 2.0//EN
METHOD:PUBLISH
X-PUBLISHED-TTL:P3D
REFRESH-INTERVAL:P3D
CALSCALE:GREGORIAN
BEGIN:VEVENT
DTSTART:20180509T130000Z
DTEND:20180509T213000Z
X-MICROSOFT-CDO-ALLDAYEVENT:FALSE
SUMMARY:Paradis True Value Open House
DESCRIPTION:Open house to celebrate our new store addition.
X-ALT-DESC;FMTTYPE=text/html:Open house to celebrate our new store addition.
LOCATION:Paradis True Value\, 31 Holland Avenue\, Bar Harbor
UID:e.3061.790
SEQUENCE:3
DTSTAMP:20260421T012119Z
URL:https://www.visitbarharbor.com/events/details/paradis-true-value-open-house-790
END:VEVENT

END:VCALENDAR
