BEGIN:VCALENDAR
VERSION:2.0
PRODID:-//ChamberMaster//Event Calendar 2.0//EN
METHOD:PUBLISH
X-PUBLISHED-TTL:P3D
REFRESH-INTERVAL:P3D
CALSCALE:GREGORIAN
BEGIN:VEVENT
DTSTART:20180715T130000Z
DTEND:20180715T210000Z
X-MICROSOFT-CDO-ALLDAYEVENT:FALSE
SUMMARY:Paperback Book Sale
DESCRIPTION:Come to the Paperback Book Sale at the Southwest Harbor Public Library on Saturday and Sunday\, July 14 and 15\, 9 am   5 pm\, for tons of paperbacks\, select hardcovers\, and rare and collectible books. Tons of gently used books for your vacationing pleasure on the Library front lawn!
X-ALT-DESC;FMTTYPE=text/html:Come to the Paperback Book Sale at the Southwest Harbor Public Library on Saturday and Sunday\, July 14 and 15\, 9 am &ndash\; 5 pm\, for tons of paperbacks\, select hardcovers\, and rare and collectible books. Tons of gently used books for your vacationing pleasure on the Library front lawn!
LOCATION:Southwest Harbor Public Library
UID:e.3061.3054
SEQUENCE:3
DTSTAMP:20260420T215945Z
URL:https://www.visitbarharbor.com/events/details/paperback-book-sale-07-15-2018-3054
END:VEVENT

END:VCALENDAR
