BEGIN:VCALENDAR
VERSION:2.0
PRODID:-//ChamberMaster//Event Calendar 2.0//EN
METHOD:PUBLISH
X-PUBLISHED-TTL:P3D
REFRESH-INTERVAL:P3D
CALSCALE:GREGORIAN
BEGIN:VEVENT
DTSTART:20180718T220000Z
DTEND:20180718T230000Z
X-MICROSOFT-CDO-ALLDAYEVENT:FALSE
SUMMARY:Pajama Story Time
DESCRIPTION:We are celebrating imagination at a special pajama story time at the Jesup Memorial Library on Wednesday\, July 18 at 6 p.m. Children are invited to join Miss Mae to read books about using their imagination and then make their own special thinking cap to take home. \n\n \n\nWe will be reading "Sarabella's Thinking Cap" by Judy Schracher\, "Alexander and the Magic Boat" by Katharine Holabird and "Bird Bonkers Stanley" by Griff. Then taking inspiration from Sarabella\, kid's will make their own thinking cap.  \n\n \n\nFor more information contact the Jesup at 207-288-4245 or mcorrion@jesuplibrary.org.
X-ALT-DESC;FMTTYPE=text/html:<span style="font-family:times new roman\,serif"><span style="font-size:14.0pt">We are celebrating imagination at a special pajama story time at the Jesup Memorial Library on Wednesday\, July 18 at 6 p.m. Children are invited to join Miss Mae to read books about using their imagination and then make their own special thinking cap to take home. </span></span><br />\n&nbsp\;<br />\n<span style="font-family:times new roman\,serif"><span style="font-size:14.0pt">We will be reading &ldquo\;Sarabella&rsquo\;s Thinking Cap&rdquo\; by Judy Schracher\, &ldquo\;Alexander and the Magic Boat&rdquo\; by Katharine Holabird and &ldquo\;Bird Bonkers Stanley&rdquo\; by Griff. Then taking inspiration from Sarabella\, kid&rsquo\;s will make their own thinking cap. &nbsp\;</span></span><br />\n&nbsp\;<br />\n<span style="font-family:times new roman\,serif"><span style="font-size:14.0pt">For more information contact the Jesup at 207-288-4245 or <a href="mailto:mcorrion@jesuplibrary.org">mcorrion@jesuplibrary.org</a></span>. </span>
LOCATION:Jesup Memorial Library\, 34 Mt. Desert St.\, Bar Harbor\, ME 04609
UID:e.3061.3300
SEQUENCE:3
DTSTAMP:20260420T195544Z
URL:https://www.visitbarharbor.com/events/details/pajama-story-time-3300
END:VEVENT

END:VCALENDAR
