BEGIN:VCALENDAR
VERSION:2.0
PRODID:-//ChamberMaster//Event Calendar 2.0//EN
METHOD:PUBLISH
X-PUBLISHED-TTL:P3D
REFRESH-INTERVAL:P3D
CALSCALE:GREGORIAN
BEGIN:VEVENT
DTSTART:20190807T223000Z
DTEND:20190807T233000Z
X-MICROSOFT-CDO-ALLDAYEVENT:FALSE
SUMMARY:Pajama Story Time
DESCRIPTION:Wednesday\, August 7 is National Sea Serpent Day and the Jesup Memorial Library is celebrating with a special pajama story time at 6:30 p.m. In the month of August in 1884\, the men and officers of HMS Daedalus spotted a 60-foot sea serpent during a voyage to Saint Helena in the South Atlantic and this day celebrates this historic sighting. \n\n \n\nKids will join Miss Mae and hear the stories "Cyrus the Unsinkable Sea Serpent" by Bill Peet\, "The Sea Serpent and Me" by Dashka Slater and "Little Toot and the Loch Ness Monster" by Hardie Gramatky. After reading the stories\, kids can make their own sea serpent to take home with them while enjoying snacks. \n\n \n\nFor more information on the story time\, contact the Jesup at 207-288-4245 or mcorrion@jesuplibrary.org.
X-ALT-DESC;FMTTYPE=text/html:<span style="font-family:times new roman\,serif"><span style="font-size:14.0pt">Wednesday\, August 7 is National Sea Serpent Day and the Jesup Memorial Library is celebrating with a special pajama story time at 6:30 p.m. In the month of August in 1884\, the men and officers of HMS Daedalus spotted a 60-foot sea serpent during a voyage to Saint Helena in the South Atlantic and this day celebrates this historic sighting. </span></span><br />\n&nbsp\;<br />\n<span style="font-family:times new roman\,serif"><span style="font-size:14.0pt">Kids will join Miss Mae and hear the stories &ldquo\;Cyrus the Unsinkable Sea Serpent&rdquo\; by Bill Peet\, &ldquo\;The Sea Serpent and Me&rdquo\; by Dashka Slater and &ldquo\;Little Toot and the Loch Ness Monster&rdquo\; by Hardie Gramatky. After reading the stories\, kids can make their own sea serpent to take home with them while enjoying snacks. </span></span><br />\n&nbsp\;<br />\n<span style="font-family:times new roman\,serif"><span style="font-size:14.0pt">For more information on the story time\, contact the Jesup at 207-288-4245 or <a href="mailto:mcorrion@jesuplibrary.org">mcorrion@jesuplibrary.org</a></span>. </span>
LOCATION:Jesup Memorial Library\, 34 Mt. Desert St.\, Bar Harbor\, ME 04609
UID:e.3061.14280
SEQUENCE:3
DTSTAMP:20260419T192506Z
URL:https://www.visitbarharbor.com/events/details/pajama-story-time-08-07-2019-14280
END:VEVENT

END:VCALENDAR
