BEGIN:VCALENDAR
VERSION:2.0
PRODID:-//ChamberMaster//Event Calendar 2.0//EN
METHOD:PUBLISH
X-PUBLISHED-TTL:P3D
REFRESH-INTERVAL:P3D
CALSCALE:GREGORIAN
BEGIN:VEVENT
DTSTART:20190220T230000Z
DTEND:20190221T000000Z
X-MICROSOFT-CDO-ALLDAYEVENT:FALSE
SUMMARY:Pajama Story Time
DESCRIPTION:February is National Bird Feeding Month. Celebrate by joining Miss Mae at the Jesup Memorial Library on Wednesday\, Feb. 20 at 6 p.m. for a special bird-themed pajama story time.\n\n \n\nKids\, ages four and older\, can come dressed in their pajamas and read "This Is the Nest That Robin Built" by Denise Fleming\, "Froodle" by Antoinette Portis and "Feathers: Not Just for Flying" by Melissa Stewart. After reading\, kids can make a birdseed cake to take home to feed the birds.\n\n \n\nFor more information on this story time contact 207-288-4245 or mcorrion@jesuplibrary.org.
X-ALT-DESC;FMTTYPE=text/html:<span style="font-family:times new roman\,serif"><span style="font-size:14.0pt">February is National Bird Feeding Month. Celebrate by joining Miss Mae at the Jesup Memorial Library on Wednesday\, Feb. 20 at 6 p.m. for a special bird-themed pajama story time.</span></span><br />\n&nbsp\;<br />\n<span style="font-family:times new roman\,serif"><span style="font-size:14.0pt">Kids\, ages four and older\, can come dressed in their pajamas and read &ldquo\;This Is the Nest That Robin Built&rdquo\; by Denise Fleming\, &ldquo\;Froodle&rdquo\; by Antoinette Portis and &ldquo\;Feathers: Not Just for Flying&rdquo\; by Melissa Stewart. After reading\, kids can make a birdseed cake to take home to feed the birds.</span></span><br />\n&nbsp\;<br />\n<span style="font-family:times new roman\,serif"><span style="font-size:14.0pt">For more information on this story time contact 207-288-4245 or <a href="mailto:mcorrion@jesuplibrary.org">mcorrion@jesuplibrary.org</a></span>. </span>
LOCATION:Jesup Memorial Library\, 34 Mt. Desert St.\, Bar Harbor\, ME 04609
UID:e.3061.5114
SEQUENCE:3
DTSTAMP:20260420T062655Z
URL:https://www.visitbarharbor.com/events/details/pajama-story-time-02-20-2019-5114
END:VEVENT

END:VCALENDAR
