BEGIN:VCALENDAR
VERSION:2.0
PRODID:-//ChamberMaster//Event Calendar 2.0//EN
METHOD:PUBLISH
X-PUBLISHED-TTL:P3D
REFRESH-INTERVAL:P3D
CALSCALE:GREGORIAN
BEGIN:VEVENT
DTSTART:20190424T220000Z
DTEND:20190424T230000Z
X-MICROSOFT-CDO-ALLDAYEVENT:FALSE
SUMMARY:Pajama Poetry Time
DESCRIPTION:Celebrate National Poetry Month at the Jesup. On Wednesday\, April 24 at 6 p.m.\, kids can celebrate poetry at a special pajama story time. April is also National Kite Month\, and kids ages five and older can join Miss Mae to read kite-themed poems. After reading the poems\, kids can write their own poetry and create their own paper bag kite to take home.
X-ALT-DESC;FMTTYPE=text/html:<span style="font-size:14px"><span style="font-family:arial\,helvetica\,sans-serif">Celebrate National Poetry Month at the Jesup.&nbsp\;On Wednesday\, April 24 at 6 p.m.\, kids can celebrate poetry at a special pajama story time. April is also National Kite Month\, and kids ages five and older can join Miss Mae to read kite-themed poems. After reading the poems\, kids can write their own poetry and create their own paper bag kite to take home.&nbsp\;</span></span>
LOCATION:Jesup Memorial Library\, 34 Mt. Desert St.\, Bar Harbor\, ME 04609
UID:e.3061.8859
SEQUENCE:3
DTSTAMP:20260420T042949Z
URL:https://www.visitbarharbor.com/events/details/pajama-poetry-time-8859
END:VEVENT

END:VCALENDAR
