BEGIN:VCALENDAR
VERSION:2.0
PRODID:-//ChamberMaster//Event Calendar 2.0//EN
METHOD:PUBLISH
X-PUBLISHED-TTL:P3D
REFRESH-INTERVAL:P3D
CALSCALE:GREGORIAN
BEGIN:VEVENT
DTSTART:20191103T190000Z
DTEND:20191103T210000Z
X-MICROSOFT-CDO-ALLDAYEVENT:FALSE
SUMMARY:Painting with Fleece
DESCRIPTION:with Liz Cutler. Using dry felting techniques\, using raw sheep's wool\, dyed fleece\, and frayed silk saris\, we will create landscapes. No art experience necessary and all ages welcome. Under 8 needs a double-digit partner. Here's where you leave saying you felt great\, and with a stunning piece of art\, and the knowledge that you can do this at home!
X-ALT-DESC;FMTTYPE=text/html:with Liz Cutler. Using dry felting techniques\, using raw sheep&#39\;s wool\, dyed fleece\, and frayed silk saris\, we will create landscapes. No art experience necessary and all ages welcome. Under 8 needs a double-digit partner. Here&#39\;s where you leave saying you felt great\, and with a stunning piece of art\, and the knowledge that you can do this at home!&nbsp\;
LOCATION:ArtWaves\, 1345-A State Highway 102\, Bar Harbor.
UID:e.3061.16330
SEQUENCE:3
DTSTAMP:20260419T155811Z
URL:https://www.visitbarharbor.com/events/details/painting-with-fleece-11-03-2019-16330
END:VEVENT

END:VCALENDAR
