BEGIN:VCALENDAR
VERSION:2.0
PRODID:-//ChamberMaster//Event Calendar 2.0//EN
METHOD:PUBLISH
X-PUBLISHED-TTL:P3D
REFRESH-INTERVAL:P3D
CALSCALE:GREGORIAN
BEGIN:VEVENT
DTSTART:20190712T140000Z
DTEND:20190713T200000Z
X-MICROSOFT-CDO-ALLDAYEVENT:FALSE
SUMMARY:Painting Class with Linda Packard: Building the Abstracted Landscape
DESCRIPTION:This workshop is for painters with some experience and with interest in loosening up and moving away from recording detail -finding inspiration in the beautiful gardens at the Woodlawn Museum. Through demos and individual guidance\, emphasis will be on simplifying the landscape to its essence\, dancing on the edge of abstraction. Any painting medium is welcome as your will not be learning specific painting techniques for any particular medium. You will learn how to utilize plein air sketches and reference photos in the abstraction process. Come prepared to stretch yourself beyond your comfort zone and let go of perfection. http://www.lindapackard.com/\n\nDay 1: Preliminary sketching in and around gardens. Work with these sketches and related photos to make 3 small abstractions\n\nDay 2:  Dedicate the full day to starting and completing at least one significant painting\, building on process learned from Day 1.\n\nSpace is limited and pre-registration is required at www.woodlawnmuseum.com
X-ALT-DESC;FMTTYPE=text/html:<p>This workshop is for painters with some experience and with interest in loosening up and moving away from recording detail -finding inspiration in the beautiful gardens at the Woodlawn Museum. Through demos and individual guidance\, emphasis will be on simplifying the landscape to its essence\, dancing on the edge of abstraction. Any painting medium is welcome as your will not be learning specific painting techniques for any particular medium. You will learn how to utilize plein air sketches and reference photos in the abstraction process. Come prepared to stretch yourself beyond your comfort zone and let go of perfection. <a href="http://www.lindapackard.com/">http://www.lindapackard.com/</a></p>\n\n<p>Day 1: Preliminary sketching in and around gardens. Work with these sketches and related photos to make 3 small abstractions</p>\n\n<p>Day 2: &nbsp\;Dedicate the full day to starting and completing at least one significant painting\, building on process learned from Day 1.</p>\n\n<p>Space is limited and pre-registration is required at www.woodlawnmuseum.com</p>\n
LOCATION:Woodlawn Museum 19 Black House Dr. Ellsworth\, ME 04605
UID:e.3061.8892
SEQUENCE:3
DTSTAMP:20260419T231340Z
URL:https://www.visitbarharbor.com/events/details/painting-class-with-linda-packard-building-the-abstracted-landscape-8892
END:VEVENT

END:VCALENDAR
