BEGIN:VCALENDAR
VERSION:2.0
PRODID:-//ChamberMaster//Event Calendar 2.0//EN
METHOD:PUBLISH
X-PUBLISHED-TTL:P3D
REFRESH-INTERVAL:P3D
CALSCALE:GREGORIAN
BEGIN:VEVENT
DTSTART:20180905T180000Z
DTEND:20180905T210000Z
X-MICROSOFT-CDO-ALLDAYEVENT:FALSE
SUMMARY:Painting at the Bar Harbor Inn
DESCRIPTION:Experience the plein air process to create your own 8"x10" acrylic painting of the beautiful oceanfront view at the Bar Harbor Inn. All materials and instruction provided. Under 14 ok if accompanied by an adult.\n\n\nMaximum 6 people\, preregistration required online.\n\nWe will meet in the lobby of the Bar Harbor Inn at 2pm to walk to the lawn near the Inn entrance (in sunny/clear weather) or to the Breakfast Room porch (inclement weather). \n\n\n\n\nhttps://www.artwavesmdi.org/product-page/sept-5-painting-at-the-bar-harbor-inn\n\nInstructor: Katie Noble Churchill
X-ALT-DESC;FMTTYPE=text/html:<div>\n<pre>\nExperience the plein air process to create your own 8&quot\;x10&quot\; acrylic painting of the beautiful oceanfront view at the Bar Harbor Inn.&nbsp\;All materials and instruction provided.&nbsp\;Under 14 ok if accompanied by an adult.\n</pre>\n\n<p>Maximum 6 people\, preregistration required online.<br />\nWe will meet in the lobby of the Bar Harbor Inn at 2pm to walk to the lawn near the Inn entrance (in sunny/clear weather) or to the Breakfast Room porch (inclement weather).&nbsp\;</p>\n</div>\n\n<div>\n<div>\n<p style="text-align:left">https://www.artwavesmdi.org/product-page/sept-5-painting-at-the-bar-harbor-inn<br />\nInstructor: Katie Noble Churchill</p>\n</div>\n</div>\n
LOCATION:Painting at the Bar Harbor Inn 1 Newport Drive\, Bar Harbor\, ME 04609 We will meet in the lobby of the Bar Harbor Inn at 2pm to walk to the lawn near the Inn entrance (in sunny/clear weather) or to the Breakfast Room porch (inclement weather). Contact Information: Katie Noble Churchill 207.664.3016
UID:e.3061.3747
SEQUENCE:3
DTSTAMP:20260420T151206Z
URL:https://www.visitbarharbor.com/events/details/painting-at-the-bar-harbor-inn-3747
END:VEVENT

END:VCALENDAR
