BEGIN:VCALENDAR
VERSION:2.0
PRODID:-//ChamberMaster//Event Calendar 2.0//EN
METHOD:PUBLISH
X-PUBLISHED-TTL:P3D
REFRESH-INTERVAL:P3D
CALSCALE:GREGORIAN
BEGIN:VEVENT
DTSTART:20180912T180000Z
DTEND:20180912T210000Z
X-MICROSOFT-CDO-ALLDAYEVENT:FALSE
SUMMARY:Painting at the Bar Harbor Inn
DESCRIPTION:Instructor: Katie Noble Churchill Experience the plein air process to create your own 8"x10" acrylic painting of the beautiful oceanfront view at the Bar Harbor Inn! All materials and instruction provided. Under 14 ok if accompanied by an adult. Maximum 6 people\, preregistration required online at https://www.artwavesmdi.org/product-page/sept-12-painting-at-the-bar-harbor-inn
X-ALT-DESC;FMTTYPE=text/html:Instructor: Katie Noble Churchill Experience the plein air process to create your own 8&quot\;x10&quot\; acrylic painting of the beautiful oceanfront view at the Bar Harbor Inn! All materials and instruction provided. Under 14 ok if accompanied by an adult. Maximum 6 people\, preregistration required online at https://www.artwavesmdi.org/product-page/sept-12-painting-at-the-bar-harbor-inn
LOCATION:1 Newport Drive\, Bar Harbor
UID:e.3061.3843
SEQUENCE:3
DTSTAMP:20260420T170555Z
URL:https://www.visitbarharbor.com/events/details/painting-at-the-bar-harbor-inn-09-12-2018-3843
END:VEVENT

END:VCALENDAR
