BEGIN:VCALENDAR
VERSION:2.0
PRODID:-//ChamberMaster//Event Calendar 2.0//EN
METHOD:PUBLISH
X-PUBLISHED-TTL:P3D
REFRESH-INTERVAL:P3D
CALSCALE:GREGORIAN
BEGIN:VEVENT
DTSTART:20190815T133000Z
DTEND:20190815T150000Z
X-MICROSOFT-CDO-ALLDAYEVENT:FALSE
SUMMARY:Painting a Masterpiece in Fiber
DESCRIPTION:Learn the basics of needle-felting and re-create a Masterpiece! We will be using raw sheep's wool\, dyed fleece and frayed silk saris. No art experience necessary!
X-ALT-DESC;FMTTYPE=text/html:Learn the basics of needle-felting and re-create a Masterpiece! We will be using raw sheep&#39\;s wool\, dyed fleece and frayed silk saris. No art experience necessary!
LOCATION:ArtWaves 1345 State Highway 102\, Bar Harbor\, ME\, USA
UID:e.3061.14335
SEQUENCE:3
DTSTAMP:20260419T212140Z
URL:https://www.visitbarharbor.com/events/details/painting-a-masterpiece-in-fiber-08-15-2019-14335
END:VEVENT

END:VCALENDAR
