BEGIN:VCALENDAR
VERSION:2.0
PRODID:-//ChamberMaster//Event Calendar 2.0//EN
METHOD:PUBLISH
X-PUBLISHED-TTL:P3D
REFRESH-INTERVAL:P3D
CALSCALE:GREGORIAN
BEGIN:VEVENT
DTSTART;VALUE=DATE:20180720
DTEND;VALUE=DATE:20180722
TRANSP:TRANSPARENT
X-MICROSOFT-CDO-ALLDAYEVENT:TRUE
SUMMARY:Paint Sketch in Acadia
DESCRIPTION:Workshop Schedule\n\nhttps://www.artwavesmdi.org/product-page/paint-sketches-in-the-park-july-20-21\n\nFriday evening\, 6-8 PM: students gather in the ArtWaves Fine Art Studio for a short slide show\, demonstration\, and a chance to ask questions and practice with some guided exercises.\n\nSaturday morning\, 7-11 AM: students will meet at ArtWaves and we will travel together to a predetermined location in the park. We will utilize the morning light to capture impressions of the beautiful landscape in our sketchbooks\n\n\n	\n	Materials\n\n	 \n\n	For an additional materials fee of $35\, Nicole will supply you with a complete portable paint set with artist-quality Winsor and Newton gouache watercolors and Moleskine Watercolor Sketchbook.\n\n	If you do not purchase the materials through Nicole\, she will provide you with a materials list.\n\n	 \n	\n\n\nPlein air painting workshop with Nicole DeSimone.\n\nWorkshop includes entry to Acadia National Park and students have the option to purchase a complete portable paint set with artist-quality Winsor and Newton gouache watercolors and Moleskin Watercolor Sketchbook so you can continue your practice after the workshop.\n\n\n\n\n\nJuly 20-21: Paint Sketches in the Park\n\nPrice$120.00
X-ALT-DESC;FMTTYPE=text/html:<div>\n<h3>Workshop Schedule</h3>\n\n<p>https://www.artwavesmdi.org/product-page/paint-sketches-in-the-park-july-20-21</p>\n\n<p>Friday evening\, 6-8 PM: students gather in the ArtWaves Fine Art Studio for a short slide show\, demonstration\, and a chance to ask questions and practice with some guided exercises.</p>\n\n<p>Saturday morning\, 7-11 AM: students will meet at ArtWaves and we will travel together to a predetermined location in the park. We will utilize the morning light to capture impressions of the beautiful landscape in our sketchbooks</p>\n\n<ul>\n	<li style="text-align:left">\n	<h3>Materials</h3>\n\n	<p>&nbsp\;</p>\n\n	<p>For an additional materials fee of $35\, Nicole will supply you with a complete portable paint set with artist-quality Winsor and Newton gouache watercolors and Moleskine Watercolor Sketchbook.</p>\n\n	<p>If you do not purchase the materials through Nicole\, she will provide you with a materials list.</p>\n\n	<p>&nbsp\;</p>\n	</li>\n</ul>\n\n<p>Plein air painting workshop with Nicole DeSimone.</p>\n\n<p>Workshop includes entry to Acadia National Park and students have the option to purchase a&nbsp\;complete portable paint set with artist-quality Winsor and Newton gouache watercolors and Moleskin Watercolor Sketchbook so you can continue your practice after the workshop.</p>\n</div>\n\n<div>\n<div>\n<div>\n<h2>July 20-21: Paint Sketches in the Park</h2>\n\n<div>Price$120.00</div>\n</div>\n</div>\n</div>\n
LOCATION:1345 State highway 102 Village of Town Hill 04609 and Acadia Nationl Park
UID:e.3061.3101
SEQUENCE:3
DTSTAMP:20260420T182821Z
URL:https://www.visitbarharbor.com/events/details/paint-sketch-in-acadia-07-20-2018-3101
END:VEVENT

END:VCALENDAR
