BEGIN:VCALENDAR
VERSION:2.0
PRODID:-//ChamberMaster//Event Calendar 2.0//EN
METHOD:PUBLISH
X-PUBLISHED-TTL:P3D
REFRESH-INTERVAL:P3D
CALSCALE:GREGORIAN
BEGIN:VEVENT
DTSTART:20190724T223000Z
DTEND:20190724T233000Z
X-MICROSOFT-CDO-ALLDAYEVENT:FALSE
SUMMARY:"Owl Love You Forever" Pajama Story Time
DESCRIPTION:Kids can pull on their pajamas and join Miss Mae at the Jesup Memorial Library on Wednesday\, July 24 at 6:30 p.m. for a pajama story time. The theme of the story time is "Owl Love You Forever" and kids can enjoy owl books and craft.\n\n \n\nMiss Mae will read "Little Owl's Night" by Divya Srinivasan\, "Owl Babies" by Martin Waddell and "Owl Moon" by Jane Yolen. Then kids can make an owl craft to take home with them. Finally\, to end the night we will have light snacks.\n\n \n\nFor more information on this event\, contact the Jesup at 207-288-4245 or mcorrion@jesuplibrary.org.
X-ALT-DESC;FMTTYPE=text/html:<span style="font-family:times new roman\,serif"><span style="font-size:14.0pt">Kids can pull on their pajamas and join Miss Mae at the Jesup Memorial Library on Wednesday\, July 24 at 6:30 p.m. for a pajama story time. The theme of the story time is &ldquo\;Owl Love You Forever&rdquo\; and kids can enjoy owl books and craft.</span></span><br />\n&nbsp\;<br />\n<span style="font-family:times new roman\,serif"><span style="font-size:14.0pt">Miss Mae will read &ldquo\;Little Owl&#39\;s Night&rdquo\; by Divya Srinivasan\, &ldquo\;Owl Babies&rdquo\; by Martin Waddell and &ldquo\;Owl Moon&rdquo\; by Jane Yolen. Then kids can make an owl craft to take home with them. Finally\, to end the night we will have light snacks.</span></span><br />\n&nbsp\;<br />\n<span style="font-family:times new roman\,serif"><span style="font-size:14.0pt"><span>For more information on this event\, contact the Jesup at <span class="gc-cs-link" id="gc-number-0" title="Call with Google Voice">207-288-4245</span> or </span><a href="mailto:mcorrion@jesuplibrary.org">mcorrion@jesuplibrary.org</a></span>. </span>
LOCATION:Jesup Memorial Library\, 34 Mt. Desert St.\, Bar Harbor\, ME 04609
UID:e.3061.14253
SEQUENCE:3
DTSTAMP:20260419T231433Z
URL:https://www.visitbarharbor.com/events/details/owl-love-you-forever-pajama-story-time-14253
END:VEVENT

END:VCALENDAR
