BEGIN:VCALENDAR
VERSION:2.0
PRODID:-//ChamberMaster//Event Calendar 2.0//EN
METHOD:PUBLISH
X-PUBLISHED-TTL:P3D
REFRESH-INTERVAL:P3D
CALSCALE:GREGORIAN
BEGIN:VEVENT
DTSTART:20180910T210000Z
DTEND:20180910T223000Z
X-MICROSOFT-CDO-ALLDAYEVENT:FALSE
SUMMARY:Overdose Support Group
DESCRIPTION:Hospice Volunteers of Hancock County is offering a support group for those who have lost a loved one to overdose. The group will be held on Mondays\, 5:00- 6:30pm\, Sept.10- October 15 at the Frenchman Bay Library in Sullivan. This event is free of charge and pre-registration is required. A pre-registration form is available online at hospiceofhancock.org or call Janice at HVHC at 667-2531.
X-ALT-DESC;FMTTYPE=text/html:Hospice Volunteers of Hancock County is offering a support group for those who have lost a loved one to overdose. The group will be held on Mondays\, 5:00- 6:30pm\, Sept.10- October 15 at the Frenchman Bay Library in Sullivan. This event is free of charge and pre-registration is required.&nbsp\;A pre-registration form is available online at hospiceofhancock.org or call Janice at HVHC at 667-2531.
LOCATION:Frenchman Bay Library in Sullivan.
UID:e.3061.3531
SEQUENCE:3
DTSTAMP:20260420T145735Z
URL:https://www.visitbarharbor.com/events/details/overdose-support-group-3531
END:VEVENT

END:VCALENDAR
