BEGIN:VCALENDAR
VERSION:2.0
PRODID:-//ChamberMaster//Event Calendar 2.0//EN
METHOD:PUBLISH
X-PUBLISHED-TTL:P3D
REFRESH-INTERVAL:P3D
CALSCALE:GREGORIAN
BEGIN:VEVENT
DTSTART:20180725T223000Z
DTEND:20180725T233000Z
X-MICROSOFT-CDO-ALLDAYEVENT:FALSE
SUMMARY:Ospreys-Magnificent Fish Hawks: A Nature Program at Woodlawn
DESCRIPTION:Eagles live in Maine year-round\; ospreys grace us with their presence only for the nesting season. Learn more about their amazing courtship\, nests\, excellent fishing techniques\, and where to watch ospreys around Ellsworth.  Woodlawn's nature programs\, led by naturalist Lynn Havsall\, are a fun learning experience open for all ages. Children under 12 must be accompanied by an adult. Nature programs are free and open to the public. Donations\, however\, are greatly appreciated.\n\nSpace is limited.  Reservations are required.
X-ALT-DESC;FMTTYPE=text/html:<div>\n<p>Eagles live in Maine year-round\; ospreys grace us with their presence only for the nesting season. Learn more about their amazing courtship\, nests\, excellent fishing techniques\, and where to watch ospreys around Ellsworth. &nbsp\;Woodlawn&rsquo\;s nature programs\, led by naturalist Lynn Havsall\, are a fun learning experience open for all ages. Children under 12 must be accompanied by an adult. Nature programs are free and open to the public. Donations\, however\, are greatly appreciated.</p>\n\n<p><strong>Space is limited. &nbsp\;<a href="https://woodlawnmuseum.com/event/ospreys/">Reservations are required</a></strong><a href="https://woodlawnmuseum.com/event/ospreys/">.</a></p>\n</div>\n
LOCATION:Woodlawn Museum\, 19 Black House Drive\, Ellsworth\, ME 04605
UID:e.3061.2200
SEQUENCE:3
DTSTAMP:20260420T182852Z
URL:https://www.visitbarharbor.com/events/details/ospreys-magnificent-fish-hawks-a-nature-program-at-woodlawn-2200
END:VEVENT

END:VCALENDAR
