BEGIN:VCALENDAR
VERSION:2.0
PRODID:-//ChamberMaster//Event Calendar 2.0//EN
METHOD:PUBLISH
X-PUBLISHED-TTL:P3D
REFRESH-INTERVAL:P3D
CALSCALE:GREGORIAN
BEGIN:VEVENT
DTSTART:20180729T160000Z
DTEND:20180729T210000Z
X-MICROSOFT-CDO-ALLDAYEVENT:FALSE
SUMMARY:Open Studio
DESCRIPTION:July Reception at the R. Scott Baltz Studio. On display will be some 30 oil paintings of the Mount Desert area. This is a yearly event\, as the studio has been in operation since 2002. Light refreshments will be served.
X-ALT-DESC;FMTTYPE=text/html:July Reception at the R. Scott Baltz Studio. On display will be some 30 oil paintings of the Mount Desert area. This is a yearly event\, as the studio has been in operation since 2002. Light refreshments will be served.
LOCATION:46 Parker Farm Road Mount Desert\, Maine 04660
UID:e.3061.3355
SEQUENCE:3
DTSTAMP:20260420T181028Z
URL:https://www.visitbarharbor.com/events/details/open-studio-3355
END:VEVENT

END:VCALENDAR
