BEGIN:VCALENDAR
VERSION:2.0
PRODID:-//ChamberMaster//Event Calendar 2.0//EN
METHOD:PUBLISH
X-PUBLISHED-TTL:P3D
REFRESH-INTERVAL:P3D
CALSCALE:GREGORIAN
BEGIN:VEVENT
DTSTART:20180819T160000Z
DTEND:20180819T210000Z
X-MICROSOFT-CDO-ALLDAYEVENT:FALSE
SUMMARY:Open Studio
DESCRIPTION:R. Scott Baltz will be hosting his August Reception on Sunday August 19\, 2018 from noon to 5 pm. On display will be 30 oil paintings of the local landscape. Baltz has maintained a studio in Mount Desert since 2002\, though this year marks the second anniversary of his new studio space just south of Somesville at 46 Parker Farm Road\, Mount Desert. His paintings of the local landscape are colorful and expressive\, influenced by the American Modernists and the Group of Seven of Canada. His larger works are represented by The Gallery at Somes Sound in Somesville. For additional information\, please visit the website for a preview of work or call/text Scott at 207.266.3393. www.rscottbaltz.com The studio is also open Tuesday through Saturday from 1 to 5 pm\, or by appointment.
X-ALT-DESC;FMTTYPE=text/html:R. Scott Baltz will be hosting his August Reception on Sunday August 19\, 2018 from noon to 5 pm. On display will be 30 oil paintings of the local landscape. Baltz has maintained a studio in Mount Desert since 2002\, though this year marks the second anniversary of his new studio space just south of Somesville at 46 Parker Farm Road\, Mount Desert. His paintings of the local landscape are colorful and expressive\, influenced by the American Modernists and the Group of Seven of Canada. His larger works are represented by The Gallery at Somes Sound in Somesville. For additional information\, please visit the website for a preview of work or call/text Scott at 207.266.3393. www.rscottbaltz.com The studio is also open Tuesday through Saturday from 1 to 5 pm\, or by appointment.
LOCATION:46 parker farm road Mount Desert\, ME. 04660
UID:e.3061.3435
SEQUENCE:3
DTSTAMP:20260420T163542Z
URL:https://www.visitbarharbor.com/events/details/open-studio-08-19-2018-3435
END:VEVENT

END:VCALENDAR
