BEGIN:VCALENDAR
VERSION:2.0
PRODID:-//ChamberMaster//Event Calendar 2.0//EN
METHOD:PUBLISH
X-PUBLISHED-TTL:P3D
REFRESH-INTERVAL:P3D
CALSCALE:GREGORIAN
BEGIN:VEVENT
DTSTART:20190818T160000Z
DTEND:20190818T210000Z
X-MICROSOFT-CDO-ALLDAYEVENT:FALSE
SUMMARY:Open Studio
DESCRIPTION:Somesville artist Scott Baltz will be hosting an August Open Studio Reception on Sunday August 18\, 2019 from noon to 5 pm. The studio is located just south of Somesville at 46 Parker Farm Road\, Mount Desert. On display are oil paintings of the local landscape. The studio is also open Wednesday through Friday from noon to 5 pm. Light refreshments will be served. For more information visit rscottbaltz.com or phone 207.266.3393
X-ALT-DESC;FMTTYPE=text/html:Somesville artist Scott Baltz will be hosting an August Open Studio Reception on Sunday August 18\, 2019 from noon to 5 pm. The studio is located just south of Somesville at 46 Parker Farm Road\, Mount Desert. On display are oil paintings of the local landscape. The studio is also open Wednesday through Friday from noon to 5 pm. Light refreshments will be served. For more information visit rscottbaltz.com or phone 207.266.3393
LOCATION:46 Parker Farm Road Mount Desert\, ME. 04660
UID:e.3061.14407
SEQUENCE:3
DTSTAMP:20260419T192030Z
URL:https://www.visitbarharbor.com/events/details/open-studio-08-18-2019-14407
END:VEVENT

END:VCALENDAR
