BEGIN:VCALENDAR
VERSION:2.0
PRODID:-//ChamberMaster//Event Calendar 2.0//EN
METHOD:PUBLISH
X-PUBLISHED-TTL:P3D
REFRESH-INTERVAL:P3D
CALSCALE:GREGORIAN
BEGIN:VEVENT
DTSTART:20190301T000000Z
DTEND:20190301T010000Z
X-MICROSOFT-CDO-ALLDAYEVENT:FALSE
SUMMARY:Open Primaries Discussion
DESCRIPTION:37% Maine voters are "independents" and are not currently registered in any of Maine's three parties. That's more than the number of Democrats (32%) or Republicans (27%). This large chunk of Mainers do not have a voice in Maine's primary elections. However new legislation in Augusta is proposing a change to the state's primaries to make them open to these voters. Join Dennis Damon and Jill Goldthwait at the Jesup Memorial Library on Thursday\, Feb. 28 at 7 p.m. as they talk about open primaries and answer your questions.\n\n \n\nCurrently only voters affiliated with one of Maine's three parties (Democrat\, Republican or Green Independent) can cast their ballot in a primary election. If an independent voter wants to vote in a primary\, they must declare for party at the polls on t primary election day. The voter must then stay affiliated with that chosen party for at least three months before changing their voter registration again. The proposed legislation would change this system and allow independent voters to vote in one primary. \n\n \n\nDamon graduated from Mount Desert High School and then received a B.S. degree in education from the University of Maine at Orono. He has worked as a schoolteacher\, coach\, entrepreneur and small business owner. Damon was elected for four terms in the Maine Senate from 2002 to 2010. \n\n \n\nGoldthwait was elected to the Bar Harbor Town Council for nine years\, serving as chairman for eight. She was elected to four terms as an Independent in the Maine Senate from 1994 to 2002. She was Director of Government Relations at The Jackson Laboratory for nine years\, retiring in 2012.  Currently\, she is an award-winning political columnist for the Ellsworth American and the Mt. Desert Islander.\n\n \n\nFor more information on the talk contact the Jesup at 207-288-4245 or mrice@jesuplibrary.org.
X-ALT-DESC;FMTTYPE=text/html:<span style="font-family:times new roman\,serif"><span style="font-size:14.0pt">37% Maine voters are &ldquo\;independents&rdquo\; and are not currently registered in any of Maine&rsquo\;s three parties. That&rsquo\;s more than the number of Democrats (32%) or Republicans (27%). This large chunk of Mainers do not have a voice in Maine&rsquo\;s primary elections. However new legislation in Augusta is proposing a change to the state&rsquo\;s primaries to make them open to these voters. Join Dennis Damon and Jill Goldthwait at the Jesup Memorial Library on Thursday\, Feb. 28 at 7 p.m. as they talk about open primaries and answer your questions.</span></span><br />\n&nbsp\;<br />\n<span style="font-family:times new roman\,serif"><span style="font-size:14.0pt">Currently only voters affiliated with one of Maine&rsquo\;s three parties (Democrat\, Republican or Green Independent) can cast their ballot in a primary election. If an independent voter wants to vote in a primary\, they must declare for party at the polls on t primary election day. The voter must then stay affiliated with that chosen party for at least three months before changing their voter registration again. The proposed legislation would change this system and allow independent voters to vote in one primary. </span></span><br />\n&nbsp\;<br />\n<span style="font-family:times new roman\,serif"><span style="font-size:14.0pt">Damon graduated from Mount Desert High School and then received a B.S. degree in education from the University of Maine at Orono. He has worked as a schoolteacher\, coach\, entrepreneur and small business owner. Damon was elected for four terms in the Maine Senate from 2002 to 2010. </span></span><br />\n&nbsp\;<br />\n<span style="font-family:times new roman\,serif"><span style="font-size:14.0pt">Goldthwait was elected to the Bar Harbor Town Council for nine years\, serving as chairman for eight. She was elected to four terms as an Independent in the Maine Senate from 1994 to 2002. She was Director of Government Relations at The Jackson Laboratory for nine years\, retiring in 2012.&nbsp\; Currently\, she is an award-winning political columnist for the Ellsworth American and the Mt. Desert Islander.</span></span><br />\n&nbsp\;<br />\n<span style="font-family:times new roman\,serif"><span style="font-size:14.0pt"><span>For more information on the talk contact the Jesup at <span class="gc-cs-link" id="gc-number-0" title="Call with Google Voice">207-288-4245</span> or </span><a href="mailto:mrice@jesuplibrary.org">mrice@jesuplibrary.org</a></span>. </span>
LOCATION:Jesup Memorial Library\, 34 Mt. Desert St.\, Bar Harbor\, ME 04609
UID:e.3061.5133
SEQUENCE:3
DTSTAMP:20260420T062301Z
URL:https://www.visitbarharbor.com/events/details/open-primaries-discussion-5133
END:VEVENT

END:VCALENDAR
