BEGIN:VCALENDAR
VERSION:2.0
PRODID:-//ChamberMaster//Event Calendar 2.0//EN
METHOD:PUBLISH
X-PUBLISHED-TTL:P3D
REFRESH-INTERVAL:P3D
CALSCALE:GREGORIAN
BEGIN:VEVENT
DTSTART:20180508T200000Z
DTEND:20180508T230000Z
X-MICROSOFT-CDO-ALLDAYEVENT:FALSE
SUMMARY:Open House: Don & Beth Sraus Center - Adult Day Program
DESCRIPTION:Learn more about the Don & Beth Straus Adult Day Program\, providing socialization and support for seniors and their families. \n\n\n\nAttendees will learn more about the Straus Adult Day Program\, funding sources to pay for day care\, overnight respite services\, and meet our Program Assistant. \n\n\n\nFor more information\, please call 288-8014 x 211.
X-ALT-DESC;FMTTYPE=text/html:Learn more about the Don &amp\; Beth Straus Adult Day Program\, providing socialization and support for seniors and their families.&nbsp\;<br />\n<br />\nAttendees will learn more about the Straus Adult Day Program\, funding sources to pay for day care\, overnight respite services\, and meet our Program Assistant.&nbsp\;<br />\n<br />\nFor more information\, please call 288-8014 x 211.
LOCATION:Birch Bay Retirement Village 25 Village Inn Rd\, Bar Harbor\, Maine 04609
UID:e.3061.809
SEQUENCE:3
DTSTAMP:20260420T215917Z
URL:https://www.visitbarharbor.com/events/details/open-house-don-beth-sraus-center-adult-day-program-809
END:VEVENT

END:VCALENDAR
