BEGIN:VCALENDAR
VERSION:2.0
PRODID:-//ChamberMaster//Event Calendar 2.0//EN
METHOD:PUBLISH
X-PUBLISHED-TTL:P3D
REFRESH-INTERVAL:P3D
CALSCALE:GREGORIAN
BEGIN:VEVENT
DTSTART:20180527T160000Z
DTEND:20180527T200000Z
X-MICROSOFT-CDO-ALLDAYEVENT:FALSE
SUMMARY:Open House and Carving Show
DESCRIPTION:Shades of orange\, black\, and white decorate the museum as a flock of oystercatchers and other birds carved by members and a tangle of red knots by young artists land at the Gilley. Come check out the work of local carvers and join the party! \n\n\n\nFood and drink provided by Sips cafe and three of our carvers - Danny Harper and the Walker Brothers (Marshall and Sheppard) - will pick up their guitars and take the Gilley stage from 1 - 2. Free and open to the public.
X-ALT-DESC;FMTTYPE=text/html:<span style="color:rgb(75\, 79\, 86)\; font-family:helvetica\,arial\,sans-serif\; font-size:14px">Shades of orange\, black\, and white decorate the museum as a flock of oystercatchers and other birds carved by members and a tangle of red knots by young artists land at the Gilley. Come check out the work of local carvers and join the party!&nbsp\;<br />\n<br />\nFood and drink provided by Sips cafe and three of our carvers -&nbsp\;Danny Harper and the Walker Brothers (Marshall and Sheppard) - will pick up their guitars and take the Gilley stage from 1 - 2. <strong>Free and open to the public.</strong></span><br />\n<br />\n&nbsp\;
LOCATION:Wendell Gilley Museum 4 Herrick rd Southwest Harbor\, ME 04679 207 244 7555
UID:e.3061.878
SEQUENCE:3
DTSTAMP:20260420T215853Z
URL:https://www.visitbarharbor.com/events/details/open-house-and-carving-show-878
END:VEVENT

END:VCALENDAR
