BEGIN:VCALENDAR
VERSION:2.0
PRODID:-//ChamberMaster//Event Calendar 2.0//EN
METHOD:PUBLISH
X-PUBLISHED-TTL:P3D
REFRESH-INTERVAL:P3D
CALSCALE:GREGORIAN
BEGIN:VEVENT
DTSTART:20200730T170000Z
DTEND:20200730T200000Z
X-MICROSOFT-CDO-ALLDAYEVENT:FALSE
SUMMARY:Open Days at Garland Farm
DESCRIPTION:The Beatrix Farrand Society's seventh annual Herbarium Exhibition is now open for viewing at Garland Farm\, 475 Bay View Drive\, Bar Harbor ME. You can visit the exhibition\, "Beatrix Farrand's Masterpiece: Dumbarton Oaks\," on Open Days at Garland Farm\, 1:00-4:00 pm Thursday afternoons from now through September 24. The 2020 Herbarium Exhibition is free and open to the public.
X-ALT-DESC;FMTTYPE=text/html:The Beatrix Farrand Society&rsquo\;s seventh annual Herbarium Exhibition is now open for viewing at Garland Farm\, 475 Bay View Drive\, Bar Harbor ME. You can visit the exhibition\, &ldquo\;Beatrix Farrand&rsquo\;s Masterpiece: Dumbarton Oaks\,&rdquo\; on Open Days at Garland Farm\, 1:00-4:00 pm Thursday afternoons from now through September 24. The 2020 Herbarium Exhibition is free and open to the public.
LOCATION:Garland Farm\, 475 Bay View Drive\, Bar Harbor ME
UID:e.3061.29669
SEQUENCE:3
DTSTAMP:20260422T013456Z
URL:https://www.visitbarharbor.com/events/details/open-days-at-garland-farm-07-30-2020-29669
END:VEVENT

END:VCALENDAR
