BEGIN:VCALENDAR
VERSION:2.0
PRODID:-//ChamberMaster//Event Calendar 2.0//EN
METHOD:PUBLISH
X-PUBLISHED-TTL:P3D
REFRESH-INTERVAL:P3D
CALSCALE:GREGORIAN
BEGIN:VEVENT
DTSTART;VALUE=DATE:20181105
DTEND;VALUE=DATE:20181201
TRANSP:TRANSPARENT
X-MICROSOFT-CDO-ALLDAYEVENT:TRUE
SUMMARY:November Art Exhibit: Paintings by Chris Gray
DESCRIPTION:Local artist\, Celtic musician\, and composer Chris Gray will have work on exhibit at the Southwest Harbor Public Library for the month of November. Chris paints with oil on canvas\, with a focus on portraits and landscapes. He grew up in Southwest Harbor and has been involved in music and art for as long as he can remember. His paintings have been exhibited at the Shaw Gallery in Northeast Harbor\, the Salty Dog Gallery in Southwest Harbor\, and at the Harraseeket Inn in Freeport\, and his work has been accepted into numerous juried shows throughout Maine.
X-ALT-DESC;FMTTYPE=text/html:Local artist\, Celtic musician\, and composer Chris Gray will have work on exhibit at the Southwest Harbor Public Library for the month of November. Chris paints with oil on canvas\, with a focus on portraits and landscapes. He grew up in Southwest Harbor and has been involved in music and art for as long as he can remember. His paintings have been exhibited at the Shaw Gallery in Northeast Harbor\, the Salty Dog Gallery in Southwest Harbor\, and at the Harraseeket Inn in Freeport\, and his work has been accepted into numerous juried shows throughout Maine.
LOCATION:Southwest Harbor Public Library
UID:e.3061.4510
SEQUENCE:3
DTSTAMP:20260420T114411Z
URL:https://www.visitbarharbor.com/events/details/november-art-exhibit-paintings-by-chris-gray-4510
END:VEVENT

END:VCALENDAR
