BEGIN:VCALENDAR
VERSION:2.0
PRODID:-//ChamberMaster//Event Calendar 2.0//EN
METHOD:PUBLISH
X-PUBLISHED-TTL:P3D
REFRESH-INTERVAL:P3D
CALSCALE:GREGORIAN
BEGIN:VEVENT
DTSTART:20181027T230000Z
DTEND:20181028T010000Z
X-MICROSOFT-CDO-ALLDAYEVENT:FALSE
SUMMARY:Nosferatu
DESCRIPTION:Mark Tipton leads Les Sorciers Perdus in a live performance of his original 2017 score for an exclusive screening of F.W. Murnau's 1922 silent film\, Nosferatu: A Symphony of Horror at the 1932 Criterion Theatre. The progenitor of all vampire films\, Murnau's German Expressionist masterpiece is loosely based on Bram Stoker's gothic novel "Dracula" (1897)\, and takes viewers on a wild\, insidious ride from sleepy Wisborg to Count Orlok's terrifying castle in Transylvania! Mark's tightly-woven\, meticulously-syncronized new score blends jazz\, classical\, folk\, and avant-garde styles to portray through music the broad emotional and psychological scope of this cult classic. Nosferatu has inspired generations of filmmakers\, including Alfred Hitchcock and Werner Herzog   who remade it in 1979 with the inimitable Klaus Kinski. With a 4-star review by Roger Ebert and a 97% rating on Rotten Tomatoes\, Nosferatu won't disappoint!
X-ALT-DESC;FMTTYPE=text/html:Mark Tipton leads Les Sorciers Perdus in a live performance of his original 2017 score for an exclusive screening of F.W. Murnau&rsquo\;s 1922 silent film\, Nosferatu: A Symphony of Horror at the 1932 Criterion Theatre. The progenitor of all vampire films\, Murnau&rsquo\;s German Expressionist masterpiece is loosely based on Bram Stoker&rsquo\;s gothic novel &ldquo\;Dracula&rdquo\; (1897)\, and takes viewers on a wild\, insidious ride from sleepy Wisborg to Count Orlok&rsquo\;s terrifying castle in Transylvania! Mark&rsquo\;s tightly-woven\, meticulously-syncronized new score blends jazz\, classical\, folk\, and avant-garde styles to portray through music the broad emotional and psychological scope of this cult classic. Nosferatu has inspired generations of filmmakers\, including Alfred Hitchcock and Werner Herzog &ndash\; who remade it in 1979 with the inimitable Klaus Kinski. With a 4-star review by Roger Ebert and a 97% rating on Rotten Tomatoes\, Nosferatu won&rsquo\;t disappoint!
LOCATION:1932 Criterion Theatre 35 Cottage St Bar Harbor
UID:e.3061.4238
SEQUENCE:3
DTSTAMP:20260420T130542Z
URL:https://www.visitbarharbor.com/events/details/nosferatu-4238
END:VEVENT

END:VCALENDAR
