BEGIN:VCALENDAR
VERSION:2.0
PRODID:-//ChamberMaster//Event Calendar 2.0//EN
METHOD:PUBLISH
X-PUBLISHED-TTL:P3D
REFRESH-INTERVAL:P3D
CALSCALE:GREGORIAN
BEGIN:VEVENT
DTSTART:20181027T000000Z
DTEND:20181027T030000Z
X-MICROSOFT-CDO-ALLDAYEVENT:FALSE
SUMMARY:Night of the Living Queens
DESCRIPTION:An absolutely fabulous drag spectacular featuring the fiercest queens in the Northeast! Hosted by Cherry Lemonade\, and starring NYC's own Shuga Cain\, Lady Ginger\, Gigi Gabor\, and with special guest Geo Neptune. Assigned Seating: $30 Balcony\, $30 Front & Center Orchestra General Admission By Section: $25 Orchestra Plus\, $15 Orchestra Standard Co-sponsored by Lompoc Cafe\, Cafe This Way\, and Morning Glory Bakery
X-ALT-DESC;FMTTYPE=text/html:An absolutely fabulous drag spectacular featuring the fiercest queens in the Northeast! Hosted by Cherry Lemonade\, and starring NYC&#39\;s own Shuga Cain\, Lady Ginger\, Gigi Gabor\, and with special guest Geo Neptune. Assigned Seating: $30 Balcony\, $30 Front &amp\; Center Orchestra General Admission By Section: $25 Orchestra Plus\, $15 Orchestra Standard Co-sponsored by Lompoc Cafe\, Cafe This Way\, and Morning Glory Bakery
LOCATION:1932 Criterion Theatre 35 Cottage St Bar Harbor
UID:e.3061.4239
SEQUENCE:3
DTSTAMP:20260420T150523Z
URL:https://www.visitbarharbor.com/events/details/night-of-the-living-queens-4239
END:VEVENT

END:VCALENDAR
