BEGIN:VCALENDAR
VERSION:2.0
PRODID:-//ChamberMaster//Event Calendar 2.0//EN
METHOD:PUBLISH
X-PUBLISHED-TTL:P3D
REFRESH-INTERVAL:P3D
CALSCALE:GREGORIAN
BEGIN:VEVENT
DTSTART:20190222T000000Z
DTEND:20190222T010000Z
X-MICROSOFT-CDO-ALLDAYEVENT:FALSE
SUMMARY:Music Inspired by Acadia
DESCRIPTION:Rachel Panitch\, a violinist and composer-in-residence at Acadia National Park\, will share music inspired by her time in Acadia at a concert with pianist Christina Spurling on Thursday\, Feb. 21 at 7 p.m. at the Jesup Memorial Library. This concert was rescheduled from January. \n\n \n\nAfter Panitch performs her pieces\, audience members can share three words or a drawing that encapsulates the park or a park experience for them. Panitch will then create a piece of music on the spot to accompany these "graphic scores."\n\n \n\nPanitch is a Boston-based violinist\, improviser\, composer and teaching artist. She performs Classical music with the Cardamom Quartet\, is a dance fiddler with French Roast\, and improvises with audiences as a part of Thread Ensemble (a trio of violins and vibraphone).  Panitch's fiddling and compositions can be heard on a PBS Utah Bucket List episode\, which was filmed during her 2014 residency in Zion National Park. She was chosen as a 2015-2017 Jubilation Fellow\, a national award recognizing "individuals with an exceptional talent for helping young people feel fully alive through rhythm." She received her Masters of Music in Contemporary Improvisation from New England Conservatory.\n\n \n\nThis event is free and open to the public and no reservations are required. For more information about Panitch visit www.rachelpanitch.com and for more information about Acadia National Park's Artist-in-Residence program visit http://go.nps.gov/AcadiaArt. For more information about the event\, contact the Jesup at 207-288-4245 or mrice@jesuplibrary.org.
X-ALT-DESC;FMTTYPE=text/html:<span style="font-family:times new roman\,serif"><span style="font-size:14.0pt">Rachel Panitch\, a violinist and composer-in-residence at Acadia National Park\, will share music inspired by her time in Acadia at a concert with pianist Christina Spurling on Thursday\, Feb. 21 at 7 p.m. at the Jesup Memorial Library. This concert was rescheduled from January. </span></span><br />\n&nbsp\;<br />\n<span style="font-family:times new roman\,serif"><span style="font-size:14.0pt">After Panitch performs her pieces\, audience members can share three words or a drawing that encapsulates the park or a park experience for them. Panitch will then create a piece of music on the spot to accompany these &ldquo\;graphic scores.&rdquo\;</span></span><br />\n&nbsp\;<br />\n<span style="font-family:times new roman\,serif"><span style="font-size:14.0pt">Panitch is a Boston-based violinist\, improviser\, composer and teaching artist. She performs Classical music with the Cardamom Quartet\, is a dance fiddler with French Roast\, and improvises with audiences as a part of Thread Ensemble (a trio of violins and vibraphone).&nbsp\; Panitch&rsquo\;s fiddling and compositions can be heard on a PBS Utah Bucket List episode\, which was filmed during her 2014 residency in Zion National Park. She was chosen as a 2015-2017 Jubilation Fellow\, a national award recognizing &ldquo\;individuals with an exceptional talent for helping young people feel fully alive through rhythm.&rdquo\; She received her Masters of Music in Contemporary Improvisation from New England Conservatory.</span></span><br />\n&nbsp\;<br />\n<span style="font-family:times new roman\,serif"><span style="font-size:14.0pt">This event is free and open to the public and no reservations are required. For more information about Panitch visit www.rachelpanitch.com and for more information about Acadia National Park&rsquo\;s Artist-in-Residence program visit <a href="http://go.nps.gov/AcadiaArt">http://go.nps.gov/AcadiaArt</a></span>. For more information about the event\, contact the Jesup at 207-288-4245 or <a href="mailto:mrice@jesuplibrary.org">mrice@jesuplibrary.org</a></span>.
LOCATION:Jesup Memorial Library\, 34 Mt. Desert St.\, Bar Harbor\, ME 04609
UID:e.3061.5115
SEQUENCE:3
DTSTAMP:20260420T062431Z
URL:https://www.visitbarharbor.com/events/details/music-inspired-by-acadia-5115
END:VEVENT

END:VCALENDAR
