BEGIN:VCALENDAR
VERSION:2.0
PRODID:-//ChamberMaster//Event Calendar 2.0//EN
METHOD:PUBLISH
X-PUBLISHED-TTL:P3D
REFRESH-INTERVAL:P3D
CALSCALE:GREGORIAN
BEGIN:VEVENT
DTSTART:20180716T213000Z
DTEND:20180716T223000Z
X-MICROSOFT-CDO-ALLDAYEVENT:FALSE
SUMMARY:Music in Early Childhood\, with Carla Tanguay
DESCRIPTION:Join board-certified music therapist Carla Tanguay on Monday\, July 16 at 5:30 p.m. at the Southwest Harbor Public Library for an experiential talk about the importance of music in early childhood. Kids with adults are welcome! Carla will also be a guest at Toddler Storytime on Wed.\, July 11 and Baby Storytim on Friday\, July 13. For more information\, call the Library: 244-7065.
X-ALT-DESC;FMTTYPE=text/html:Join board-certified music therapist Carla Tanguay on Monday\, July 16 at 5:30 p.m. at the Southwest Harbor Public Library for an experiential talk about the importance of music in early childhood. Kids with adults are welcome! Carla will also be a guest at Toddler Storytime on Wed.\, July 11 and Baby Storytim on Friday\, July 13. For more information\, call the Library: 244-7065.
LOCATION:Southwest Harbor Public Library
UID:e.3061.3070
SEQUENCE:3
DTSTAMP:20260420T200518Z
URL:https://www.visitbarharbor.com/events/details/music-in-early-childhood-with-carla-tanguay-3070
END:VEVENT

END:VCALENDAR
