BEGIN:VCALENDAR
VERSION:2.0
PRODID:-//ChamberMaster//Event Calendar 2.0//EN
METHOD:PUBLISH
X-PUBLISHED-TTL:P3D
REFRESH-INTERVAL:P3D
CALSCALE:GREGORIAN
BEGIN:VEVENT
DTSTART:20190822T200000Z
DTEND:20190822T210000Z
X-MICROSOFT-CDO-ALLDAYEVENT:FALSE
SUMMARY:Music at the Movies with Laurence Rosenthal
DESCRIPTION:There has always been an intimate link between music and drama. Nowhere is this phenomenon more evident today than in the premier art form of our time\, the cinema. Laurence Rosenthal will delve into the fascinating and unexpected ways music can add a new dimension to film\, illustrated by memorable scenes from his now classic movies.
X-ALT-DESC;FMTTYPE=text/html:There has always been an intimate link between music and drama. Nowhere is this phenomenon more evident today than in the premier art form of our time\, the cinema. Laurence Rosenthal will delve into the fascinating and unexpected ways music can add a new dimension to film\, illustrated by memorable scenes from his now classic movies.
LOCATION:The Bar Harbor Club 111 West Street\, Bar Harbor\, ME
UID:e.3061.14408
SEQUENCE:3
DTSTAMP:20260419T213134Z
URL:https://www.visitbarharbor.com/events/details/music-at-the-movies-with-laurence-rosenthal-14408
END:VEVENT

END:VCALENDAR
