BEGIN:VCALENDAR
VERSION:2.0
PRODID:-//ChamberMaster//Event Calendar 2.0//EN
METHOD:PUBLISH
X-PUBLISHED-TTL:P3D
REFRESH-INTERVAL:P3D
CALSCALE:GREGORIAN
BEGIN:VEVENT
DTSTART:20191018T220000Z
DTEND:20191019T203000Z
X-MICROSOFT-CDO-ALLDAYEVENT:FALSE
SUMMARY:Murder by the Book at the Jesup
DESCRIPTION:Join a dozen mystery and thriller authors for talks\, signings and panels during Murder by the Book at the Jesup Memorial Library on Friday\, Oct. 18 and Saturday\, Oct. 19. Murder by the Book is perfect event for readers and fans of mysteries\, suspense novels and thrillers. This is a great time for readers to hear from their favorite authors and maybe find a new author to read. This year's keynote speaker is Linda Greenlaw\, whose mysteries feature Jane Bunker who lives on the fictional island of Green Haven off the coast of Maine. The weekend kicks off on Friday\, Oct. 18 from 6 p.m. to 8 p.m. with a special ticketed wine reception where you can mingle with all the authors. On Saturday\, Oct. 19\, there will be a daylong celebration of mystery that is free and open to the public. Visit the library to meet and hear from your favorite authors including a special keynote talk with Greenlaw at noon. \n\n \n\nGreenlaw is author of five bestselling nonfiction books about life as a commercial fisherman: "The Hungry Ocean\," "The Lobster Chronicles\," "All Fishermen Are Liars\," "Seaworthy" and "Lifesaving Lessons\," as well as the Jane Bunker mysteries: "Slipknot\," "Fisherman's Bend\," "Shiver Hitch" and "Bimini Twist". She has also authored two cookbooks with her mother\, Martha Greenlaw: "Recipes from a Very Small Island" and "The Maine Summers Cookbook." She splits her time between Isle of Haut and Surry.\n\n \n\nThe authors at this year's Murder by the Book are Brenda Buchanan\, Anne Canadeo\, Richard Cass\, Bruce Coffin\, John Corrigan (D.A. Keeley)\, Sherry Harris\, Vaughn Hardacker\, Barbara Ross\, Darcy Scott\, Nicole Seavey and Julia Spencer-Fleming. \n\n \n\nFor more information about the event or to purchase tickets to Friday night's event\, contact the Jesup at 207-288-4245 or visit jesuplibrary.org/mbtb.
X-ALT-DESC;FMTTYPE=text/html:<span style="font-family:times new roman\,serif"><span style="font-size:14.0pt">Join a dozen mystery and thriller authors for talks\, signings and panels during Murder by the Book at the Jesup Memorial Library on Friday\, Oct. 18 and Saturday\, Oct. 19. Murder by the Book is perfect event for readers and fans of mysteries\, suspense novels and thrillers. This is a great time for readers to hear from their favorite authors and maybe find a new author to read. This year&rsquo\;s keynote speaker is Linda Greenlaw\, whose mysteries feature Jane Bunker who lives on the fictional island of Green Haven off the coast of Maine. The weekend kicks off on Friday\, Oct. 18 from 6 p.m. to 8 p.m. with a special ticketed wine reception where you can mingle with all the authors. On Saturday\, Oct. 19\, there will be a daylong celebration of mystery that is free and open to the public. Visit the library to meet and hear from your favorite authors including a special keynote talk with Greenlaw at noon. </span></span><br />\n&nbsp\;<br />\n<span style="font-family:times new roman\,serif"><span style="font-size:14.0pt">Greenlaw is author of five bestselling nonfiction books about life as a commercial fisherman: &ldquo\;The Hungry Ocean\,&rdquo\; &ldquo\;The Lobster Chronicles\,&rdquo\; &ldquo\;All Fishermen Are Liars\,&rdquo\; &ldquo\;Seaworthy&rdquo\; and &ldquo\;Lifesaving Lessons\,&rdquo\; as well as the Jane Bunker mysteries: &ldquo\;Slipknot\,&rdquo\; &ldquo\;Fisherman&rsquo\;s Bend\,&rdquo\; &ldquo\;Shiver Hitch&rdquo\; and &ldquo\;Bimini Twist&rdquo\;. She has also authored two cookbooks with her mother\, Martha Greenlaw: &ldquo\;Recipes from a Very Small Island&rdquo\; and &ldquo\;The Maine Summers Cookbook.&rdquo\; She splits her time between Isle of Haut and Surry.</span></span><br />\n&nbsp\;<br />\n<span style="font-family:times new roman\,serif"><span style="font-size:14.0pt">The authors at this year&rsquo\;s Murder by the Book are Brenda Buchanan\, Anne Canadeo\, Richard Cass\, Bruce Coffin\, John Corrigan (D.A. Keeley)\, Sherry Harris\, Vaughn Hardacker\, Barbara Ross\, Darcy Scott\, Nicole Seavey and Julia Spencer-Fleming. </span></span><br />\n&nbsp\;<br />\n<span style="font-family:times new roman\,serif"><span style="font-size:14.0pt">For more information about the event or to purchase tickets to Friday night&rsquo\;s event\, contact the Jesup at 207-288-4245 or visit jesuplibrary.org/mbtb. </span></span>
LOCATION:Jesup Memorial Library
UID:e.3061.14705
SEQUENCE:3
DTSTAMP:20260419T155533Z
URL:https://www.visitbarharbor.com/events/details/murder-by-the-book-at-the-jesup-14705
END:VEVENT

END:VCALENDAR
