BEGIN:VCALENDAR
VERSION:2.0
PRODID:-//ChamberMaster//Event Calendar 2.0//EN
METHOD:PUBLISH
X-PUBLISHED-TTL:P3D
REFRESH-INTERVAL:P3D
CALSCALE:GREGORIAN
BEGIN:VEVENT
DTSTART:20181026T213000Z
DTEND:20181027T000000Z
X-MICROSOFT-CDO-ALLDAYEVENT:FALSE
SUMMARY:Murder by the Book
DESCRIPTION:Join 13 mystery authors\, many of them award-winning bestselling authors\, for the fourth Annual Murder by the Book at the Jesup Memorial Library on Fri.\, Oct. 26 and Sat.\, Oct. 27. The featured authors this year include keynote speaker David Rosenfelt\, and mystery and thriller writers Brenda Buchanan\, Dorothy Cannell\, Richard Cass\, Bruce Coffin\, Stephanie Gayle\, Vaughn Hardacker\, James Hayman\, Lynne Raimondo\, Nicole Seavey\, Jane Sloven\, Julia Spencer-Fleming and James Ziskin.\n\n \n\nOn Friday night at 5:30 p.m.\, meet and mingle with all of the authors at a special reception and then get a glimpse of murders to come as a handful of the authors will read from their works-in-progress. Attendees who purchase their tickets beforehand will get a set of clues to solve a mystery. Anyone who correctly solves the mystery will be entered in a giveaway to win a bundle of books as well as other prizes.  Tickets to this event are $25 each and can be purchased at the Jesup. \n\n \n\n \n\nFor more information on either event contact the Jesup at 207-288-4245\, mrice@jesuplibrary or visit jesuplibrary.org/mbtb.
X-ALT-DESC;FMTTYPE=text/html:<span style="font-family:times new roman\,serif"><span style="font-size:14.0pt">Join 13 mystery authors\, many of them award-winning bestselling authors\, for the fourth Annual Murder by the Book at the Jesup Memorial Library on Fri.\, Oct. 26 and Sat.\, Oct. 27. The featured authors this year include keynote speaker David Rosenfelt\, and mystery and thriller writers Brenda Buchanan\, Dorothy Cannell\, Richard Cass\, Bruce Coffin\, Stephanie Gayle\, Vaughn Hardacker\, James Hayman\, Lynne Raimondo\, Nicole Seavey\, Jane Sloven\, Julia Spencer-Fleming and James Ziskin.</span></span><br />\n&nbsp\;<br />\n<span style="font-family:times new roman\,serif"><span style="font-size:14.0pt">On Friday night at 5:30 p.m.\, meet and mingle with all of the authors at a special reception and then get a glimpse of murders to come as a handful of the authors will read from their works-in-progress. Attendees who purchase their tickets beforehand will get a set of clues to solve a mystery. Anyone who correctly solves the mystery will be entered in a giveaway to win a bundle of books as well as other prizes. &nbsp\;Tickets to this event are $25 each and can be purchased at the Jesup. </span></span><br />\n&nbsp\;<br />\n&nbsp\;<br />\n<span style="font-family:times new roman\,serif"><span style="font-size:14.0pt">For more information on either event contact the Jesup at 207-288-4245\, mrice@jesuplibrary or visit jesuplibrary.org/mbtb. </span></span>
LOCATION:Jesup Memorial Library\, 34 Mt. Desert St.\, Bar Harbor\, ME 04609
UID:e.3061.3958
SEQUENCE:3
DTSTAMP:20260420T145755Z
URL:https://www.visitbarharbor.com/events/details/murder-by-the-book-3958
END:VEVENT

END:VCALENDAR
