BEGIN:VCALENDAR
VERSION:2.0
PRODID:-//ChamberMaster//Event Calendar 2.0//EN
METHOD:PUBLISH
X-PUBLISHED-TTL:P3D
REFRESH-INTERVAL:P3D
CALSCALE:GREGORIAN
BEGIN:VEVENT
DTSTART:20181027T123000Z
DTEND:20181027T203000Z
X-MICROSOFT-CDO-ALLDAYEVENT:FALSE
SUMMARY:Murder by the Book
DESCRIPTION:Join 13 mystery authors\, many of them award-winning bestselling authors\, for the fourth Annual Murder by the Book at the Jesup Memorial Library on Fri.\, Oct. 26 and Sat.\, Oct. 27. The featured authors this year include keynote speaker David Rosenfelt\, and mystery and thriller writers Brenda Buchanan\, Dorothy Cannell\, Richard Cass\, Bruce Coffin\, Stephanie Gayle\, Vaughn Hardacker\, James Hayman\, Lynne Raimondo\, Nicole Seavey\, Jane Sloven\, Julia Spencer-Fleming and James Ziskin.\n\n \n\nOn Saturday from 8:30 a.m. to 4:30 p.m.\, hear from the writers themselves as they talk about their books\, inspiration and much more. There will be book signings all day as well as a keynote talk with David Rosenfelt at noon. Rosenfelt is the author of more than 27 books\, including the Andy Carpenter series about a lawyer and his golden retriever Tara. His newest book in the series "Deck the Hounds" comes out the week before Murder the Book. There will be panels with experts including lawyers\, a police officer\, a book store owner and executive director of the New England Independent Bookseller's Association. Prizes will be given away throughout the day.  Stop by to see your favorite author and hear them talk\, or come to all the events and maybe find a new author to read.\n\n \n\nFor more information on either event contact the Jesup at 207-288-4245\, mrice@jesuplibrary or visit jesuplibrary.org/mbtb.
X-ALT-DESC;FMTTYPE=text/html:<span style="font-family:times new roman\,serif"><span style="font-size:14.0pt">Join 13 mystery authors\, many of them award-winning bestselling authors\, for the fourth Annual Murder by the Book at the Jesup Memorial Library on Fri.\, Oct. 26 and Sat.\, Oct. 27. The featured authors this year include keynote speaker David Rosenfelt\, and mystery and thriller writers Brenda Buchanan\, Dorothy Cannell\, Richard Cass\, Bruce Coffin\, Stephanie Gayle\, Vaughn Hardacker\, James Hayman\, Lynne Raimondo\, Nicole Seavey\, Jane Sloven\, Julia Spencer-Fleming and James Ziskin.</span></span><br />\n&nbsp\;<br />\n<span style="font-family:times new roman\,serif"><span style="font-size:14.0pt">On Saturday from 8:30 a.m. to 4:30 p.m.\, hear from the writers themselves as they talk about their books\, inspiration and much more. There will be book signings all day as well as a keynote talk with David Rosenfelt at noon. Rosenfelt is the author of more than 27 books\, including the Andy Carpenter series about a lawyer and his golden retriever Tara. His newest book in the series &ldquo\;Deck the Hounds&rdquo\; comes out the week before Murder the Book. There will be panels with experts including lawyers\, a police officer\, a book store owner and executive director of the New England Independent Bookseller&#39\;s Association. Prizes will be given away throughout the day.&nbsp\; Stop by to see your favorite author and hear them talk\, or come to all the events and maybe find a new author to read.</span></span><br />\n&nbsp\;<br />\n<span style="font-family:times new roman\,serif"><span style="font-size:14.0pt">For more information on either event contact the Jesup at 207-288-4245\, mrice@jesuplibrary or visit jesuplibrary.org/mbtb. </span></span>
LOCATION:Jesup Memorial Library\, 34 Mt. Desert St.\, Bar Harbor\, ME 04609
UID:e.3061.3959
SEQUENCE:3
DTSTAMP:20260420T132010Z
URL:https://www.visitbarharbor.com/events/details/murder-by-the-book-10-27-2018-3959
END:VEVENT

END:VCALENDAR
