BEGIN:VCALENDAR
VERSION:2.0
PRODID:-//ChamberMaster//Event Calendar 2.0//EN
METHOD:PUBLISH
X-PUBLISHED-TTL:P3D
REFRESH-INTERVAL:P3D
CALSCALE:GREGORIAN
BEGIN:VEVENT
DTSTART;VALUE=DATE:20191020
DTEND;VALUE=DATE:20191021
TRANSP:TRANSPARENT
X-MICROSOFT-CDO-ALLDAYEVENT:TRUE
SUMMARY:Mount Desert Island Marathon - Half - Relay
DESCRIPTION:GET REAL MAINE.\n\nRUN MDI!
X-ALT-DESC;FMTTYPE=text/html:GET REAL MAINE.<br />\nRUN MDI!
LOCATION:Mount Desert Island\, Maine
UID:e.3061.14501
SEQUENCE:3
DTSTAMP:20260422T163630Z
URL:https://www.visitbarharbor.com/events/details/mount-desert-island-marathon-half-relay-14501
END:VEVENT

END:VCALENDAR
