BEGIN:VCALENDAR
VERSION:2.0
PRODID:-//ChamberMaster//Event Calendar 2.0//EN
METHOD:PUBLISH
X-PUBLISHED-TTL:P3D
REFRESH-INTERVAL:P3D
CALSCALE:GREGORIAN
BEGIN:VEVENT
DTSTART:20180712T220000Z
DTEND:20180713T010000Z
X-MICROSOFT-CDO-ALLDAYEVENT:FALSE
SUMMARY:Mosaic the Park
DESCRIPTION:Stained Glass Mosaic the Park\n\n$35 Instructor: Liz Cutler\n\n6-9 Thursday July 12\n\nWe have piles of gorgeous glass\, bins of beautiful china\, smooth stones for you to create and bring home your own version of our national park or color in a pattern with glass. Birches are always a favorite!\n\nPlus\, you learn to cut\, grind and grout a stained-glass mosaic! It's like coloring with stained glass\, no experience necessary. We supply it all from Aprons to zinc white with step by step instructions in our spacious Kaleidoscope Studio. Bring home a completed 5 x 7 or larger stained glass mosaic - framed and ready for your wall  or window.\n\nPerhaps there is something special you have picked up to include\, flat stones\, shells etc. you are welcome to personalize your piece as you wish.
X-ALT-DESC;FMTTYPE=text/html:<pre>\nStained Glass Mosaic the Park</pre>\n\n<p>$35 Instructor: Liz Cutler</p>\n\n<p>6-9 Thursday July 12</p>\n\n<p>We have piles of gorgeous glass\, bins of beautiful china\, smooth stones for you to create and bring home your own version of our national park or color in a pattern with glass. Birches are always a favorite!</p>\n\n<p>Plus\, you learn to cut\, grind and grout a stained-glass mosaic! It&rsquo\;s like coloring with stained glass\, no experience necessary. We supply it all from Aprons to zinc white with step by step instructions in our spacious Kaleidoscope Studio. Bring home a completed 5 x 7 or larger stained glass mosaic - framed and ready for your wall &nbsp\;or window.</p>\n\n<p>Perhaps there is something special you have picked up to include\, flat stones\, shells etc. you are welcome to personalize your piece as you wish.</p>\n
LOCATION:ArtWaves 1345 State Highway 102 Village of Town Hill Bar Harbor 04609
UID:e.3061.3099
SEQUENCE:3
DTSTAMP:20260420T182354Z
URL:https://www.visitbarharbor.com/events/details/mosaic-the-park-3099
END:VEVENT

END:VCALENDAR
