BEGIN:VCALENDAR
VERSION:2.0
PRODID:-//ChamberMaster//Event Calendar 2.0//EN
METHOD:PUBLISH
X-PUBLISHED-TTL:P3D
REFRESH-INTERVAL:P3D
CALSCALE:GREGORIAN
BEGIN:VEVENT
DTSTART:20190805T110000Z
DTEND:20190805T120000Z
X-MICROSOFT-CDO-ALLDAYEVENT:FALSE
SUMMARY:Morning Yoga Bliss - Sand Beach
DESCRIPTION:Join us for a grounded practice while soaking in the natural beauty of Sand Beach.  Make sure to reserve your mat in advance. \n\n\n\nFor video directions check:  www.instagram.com/a.wandering.yogini
X-ALT-DESC;FMTTYPE=text/html:Join us for a grounded practice while soaking in the natural beauty of Sand Beach.&nbsp\; Make sure to reserve your mat in advance.&nbsp\;<br />\n<br />\nFor video directions check:&nbsp\; www.instagram.com/a.wandering.yogini
LOCATION:Sand Beach in Acadia National Park
UID:e.3061.12290
SEQUENCE:3
DTSTAMP:20260419T193037Z
URL:https://www.visitbarharbor.com/events/details/morning-yoga-bliss-sand-beach-08-05-2019-12290
END:VEVENT

END:VCALENDAR
