BEGIN:VCALENDAR
VERSION:2.0
PRODID:-//ChamberMaster//Event Calendar 2.0//EN
METHOD:PUBLISH
X-PUBLISHED-TTL:P3D
REFRESH-INTERVAL:P3D
CALSCALE:GREGORIAN
BEGIN:VEVENT
DTSTART:20190906T140000Z
DTEND:20190906T160000Z
X-MICROSOFT-CDO-ALLDAYEVENT:FALSE
SUMMARY:Morning Mosaics
DESCRIPTION:with Liz Cutler. Capture the magic of stained glass! Learn to cut\, grind and grout glass\, feel free to do your own design. We can help you use a photo as a pattern or use one of our patterns. No experience necessary\, fun inevitable!\n\nAll ages\, however\, 8 and under require a double digit companion.
X-ALT-DESC;FMTTYPE=text/html:with Liz Cutler. Capture the magic of stained glass! Learn to cut\, grind and grout glass\, feel free to do your own design. We can help you use a photo as a pattern or use one of our patterns. No experience necessary\, fun inevitable!<br />\nAll ages\, however\, 8 and under require a double digit companion.
LOCATION:ArtWaves\, 1345-A State Highway 102\, Bar Harbor.
UID:e.3061.14662
SEQUENCE:3
DTSTAMP:20260419T173116Z
URL:https://www.visitbarharbor.com/events/details/morning-mosaics-14662
END:VEVENT

END:VCALENDAR
